BEGIN:VCALENDAR
VERSION:2.0
PRODID:-//Puro Teatro - ECPv6.15.20//NONSGML v1.0//EN
CALSCALE:GREGORIAN
METHOD:PUBLISH
X-ORIGINAL-URL:https://puroteatro.pe
X-WR-CALDESC:Eventos para Puro Teatro
REFRESH-INTERVAL;VALUE=DURATION:PT1H
X-Robots-Tag:noindex
X-PUBLISHED-TTL:PT1H
BEGIN:VTIMEZONE
TZID:America/Lima
BEGIN:STANDARD
TZOFFSETFROM:-0500
TZOFFSETTO:-0500
TZNAME:-05
DTSTART:20250101T000000
END:STANDARD
END:VTIMEZONE
BEGIN:VEVENT
DTSTART;TZID=America/Lima:20260424T200000
DTEND;TZID=America/Lima:20260424T210000
DTSTAMP:20260423T041915
CREATED:20260315T145023Z
LAST-MODIFIED:20260315T145023Z
UID:10006004-1777060800-1777064400@puroteatro.pe
SUMMARY:La coima
DESCRIPTION:El gobierno de un país sudamericano se entera de que la Corte Internacional Anticorrupción ha enviado a un infiltrado a supervisar los países de su región. Presidente\, Primera Dama\, vicepresidente\, ministros y congresistas harán todo lo que esté en sus manos para esconder sus corruptelas y sus más bajos intereses. \n 
URL:https://puroteatro.pe/obra-teatral/la-coima/2026-04-24/
LOCATION:Teatro Ricardo Roca Rey (AAA)\, Jirón Ica 323 Cercado de Lima\, Cercado de Lima\, Lima\, Peru
CATEGORIES:Teatro
ATTACH;FMTTYPE=image/jpeg:https://puroteatro.pe/wp-content/uploads/2026/03/encabezado-web-15.jpg
END:VEVENT
BEGIN:VEVENT
DTSTART;TZID=America/Lima:20260709T200000
DTEND;TZID=America/Lima:20260709T210000
DTSTAMP:20260423T041915
CREATED:20260112T124418Z
LAST-MODIFIED:20260112T124418Z
UID:10004946-1783627200-1783630800@puroteatro.pe
SUMMARY:Julio César
DESCRIPTION:El poder tiene un precio. \nRoma arde entre vítores y sospechas. Julio César regresa victorioso\, amado por el pueblo y temido por el Senado. Su amigo más fiel\, Bruto\, es arrastrado por la duda: ¿salvar a Roma… o traicionar a un hermano? \n  \nLa conspiración se enciende.\nEl asesinato sacude al imperio.\nY las palabras se vuelven armas. \n  \nDiez actores dan vida a una Roma en crisis\, donde la ambición\, la lealtad y la traición se enfrentan cara a cara. Una versión intensa\, contemporánea y humana de la tragedia más política de Shakespeare. \n 
URL:https://puroteatro.pe/obra-teatral/julio-cesar/2026-07-09/
LOCATION:Teatro Ricardo Roca Rey (AAA)\, Jirón Ica 323 Cercado de Lima\, Cercado de Lima\, Lima\, Peru
CATEGORIES:Teatro
ATTACH;FMTTYPE=image/png:https://puroteatro.pe/wp-content/uploads/2026/01/Diseno-sin-titulo-3.png
END:VEVENT
BEGIN:VEVENT
DTSTART;TZID=America/Lima:20261023T180000
DTEND;TZID=America/Lima:20261023T190000
DTSTAMP:20260423T041915
CREATED:20260323T021538Z
LAST-MODIFIED:20260325T154116Z
UID:10006230-1792778400-1792782000@puroteatro.pe
SUMMARY:Por mis Zarzuelas
DESCRIPTION:UN ESPECTACULO MUSICAL SOBRE LA ZARZUELA que combina las mas representativas melodias del genero\, con una historia real y vigente.
URL:https://puroteatro.pe/obra-teatral/por-mis-zarzuelas/2026-10-23/1/
LOCATION:Teatro Ricardo Roca Rey (AAA)\, Jirón Ica 323 Cercado de Lima\, Cercado de Lima\, Lima\, Peru
CATEGORIES:Musicales
ATTACH;FMTTYPE=image/jpeg:https://puroteatro.pe/wp-content/uploads/2026/03/encabezado-web-44-1.jpg
END:VEVENT
END:VCALENDAR