BEGIN:VCALENDAR
VERSION:2.0
PRODID:-//Puro Teatro - ECPv6.15.20//NONSGML v1.0//EN
CALSCALE:GREGORIAN
METHOD:PUBLISH
X-ORIGINAL-URL:https://puroteatro.pe
X-WR-CALDESC:Eventos para Puro Teatro
REFRESH-INTERVAL;VALUE=DURATION:PT1H
X-Robots-Tag:noindex
X-PUBLISHED-TTL:PT1H
BEGIN:VTIMEZONE
TZID:America/Lima
BEGIN:STANDARD
TZOFFSETFROM:-0500
TZOFFSETTO:-0500
TZNAME:-05
DTSTART:20250101T000000
END:STANDARD
END:VTIMEZONE
BEGIN:VEVENT
DTSTART;TZID=America/Lima:20260426T190000
DTEND;TZID=America/Lima:20260426T200000
DTSTAMP:20260422T121345
CREATED:20260420T021556Z
LAST-MODIFIED:20260420T021556Z
UID:10006613-1777230000-1777233600@puroteatro.pe
SUMMARY:Concierto de Tango. Alberto Daniel.
DESCRIPTION:El cantante argentino de tango Alberto Daniel celebrará 60 años de carrera artística con un concierto especial que reunirá música y danza. El espectáculo contará con la participación de la orquesta dirigida por el maestro Víctor Marchand y la voz invitada de Nita Ladd. También se presentará la reconocida pareja de baile Igor y Odette como artistas invitados. Alberto Daniel debutó en 1965 en Radio Belgrano y desarrolló una destacada carrera internacional antes de radicar en el Perú\, donde participó en televisión\, giras y escenarios emblemáticos. Este concierto rinde homenaje a su legado y aporte a la difusión del tango en el país.
URL:https://puroteatro.pe/obra-teatral/concierto-de-tango-alberto-daniel/
LOCATION:Teatro Principal Manuel Segura\, Jr. Huancavelica 262\, Lima Centro\, Centro de Lima\, Lima\, Peru
CATEGORIES:Musicales
ATTACH;FMTTYPE=image/png:https://puroteatro.pe/wp-content/uploads/2026/04/encabezado-web-95.png
END:VEVENT
BEGIN:VEVENT
DTSTART;TZID=America/Lima:20260614T180000
DTEND;TZID=America/Lima:20260614T190000
DTSTAMP:20260422T121345
CREATED:20260420T025618Z
LAST-MODIFIED:20260420T025618Z
UID:10006619-1781460000-1781463600@puroteatro.pe
SUMMARY:La púrpura de la rosa. Opera barroca de Tomás de Torejón y Velasco
DESCRIPTION:Una nueva producción de Teatro Principal Manuel A. Segura de Lima\, el escenario más antiguo de América\, para un titulo fundamental dentro de la historia de la ópera en nuestro continente\, “La Púrpura de la Rosa” ópera barroca de Tomás de Torrejón y Velasco con libreto de Pedro Calderón de la Barca\, estrenada en Lima el 19 de octubre de 1701 en el Palacio de los Virreyes\, con motivo de las celebraciones por el cumpleaños del primer rey Borbón\, Felipe V. La diosa Venus se enamora del joven y hermoso cazador Adonis\, quien corresponde a su amor. Sin embargo\, su relación provoca los celos del dios Marte\, antiguo amante de Venus. Mientras Venus intenta proteger a Adonis de los peligros del mundo y del odio de Marte\, el joven se muestra decidido a continuar con su vida de cazador. Marte\, dominado por la furia y el despecho\, decide vengarse de la pareja. Para lograrlo provoca una tragedia durante una jornada de caza: un feroz jabalí hiere mortalmente a Adonis. Venus llega demasiado tarde para salvarlo y presencia la muerte de su amado. Desconsolada\, la diosa llora sobre el cuerpo de Adonis\, cuya sangre da origen simbólicamente a una rosa de color púrpura\, imagen poética que da título a la obra. La historia concluye con la exaltación del amor trágico y eterno\, transformado en belleza y memoria. Esta obra fue estrenada en Lima el 19 de octubre de 1701 en el Palacio de los Virreyes de Lima\, con motivo de las celebraciones por el cumpleaños del primer rey Borbón\, Felipe V. El Teatro Segura albergará esta emblemática puesta en escena\, junto a un excepcional reparto conformado por la soprano Lucía Iglésias como Venus\, el contratenor Rafael Quirant como Adonis\, el contratenor Cameron Shahbazi como Marte\, el tenor Wilson Hidalgo como Chato\, la soprano Rosa Parodi como Celfa\, la soprano Érika Camacho como Amor y la mezzosoprano Bettina Victorero​ como Belona. Acompaña la Orquesta Sinfónica del Teatro Municipal de Lima\, bajo la dirección del maestro Aurelio Tello y la dirección de escena a cargo de Jean Pierre Gamarra.
URL:https://puroteatro.pe/obra-teatral/la-purpura-de-la-rosa-opera-barroca-de-tomas-de-torejon-y-velasco/2026-06-14/
LOCATION:Teatro Principal Manuel Segura\, Jr. Huancavelica 262\, Lima Centro\, Centro de Lima\, Lima\, Peru
CATEGORIES:Ópera
ATTACH;FMTTYPE=image/png:https://puroteatro.pe/wp-content/uploads/2026/04/encabezado-web-98.png
END:VEVENT
BEGIN:VEVENT
DTSTART;TZID=America/Lima:20260821T193000
DTEND;TZID=America/Lima:20260821T210000
DTSTAMP:20260422T121345
CREATED:20260420T020401Z
LAST-MODIFIED:20260420T020401Z
UID:10006612-1787340600-1787346000@puroteatro.pe
SUMMARY:Marina Rebeka. La más aclamada soprano del momento
DESCRIPTION:La reconocida soprano letona Marina Rebeka llega a Lima por primera vez con un recital excepcional que invita al público a disfrutar de una de las voces más destacadas de la escena lírica internacional. Admirada por su timbre luminoso\, su impecable técnica y su poderosa capacidad interpretativa\, Marina Rebeka se ha consolidado como una de las grandes intérpretes del repertorio operístico de nuestro tiempo. Nacida en Riga y formada entre Letonia e Italia\, la soprano alcanzó proyección mundial tras su aclamado debut en el Salzburg Festival en 2009\, lo que impulsó una carrera internacional que la ha llevado a presentarse en algunos de los teatros más prestigiosos del mundo\, como el Teatro alla Scala de Milán\, el Metropolitan Opera de Nueva York y el Royal Opera House de Sidney. A lo largo de su trayectoria ha sido especialmente celebrada por sus interpretaciones del repertorio belcantista y verdiano\, destacando en papeles icónicos como Violetta en La traviata\, además de abordar con gran éxito obras de compositores como Gioachino Rossini y Wolfgang Amadeus Mozart. En este recital\, Marina Rebeka ofrecerá una velada única\, acompañada del pianista Marcelo Ayub\, donde la intensidad dramática de la ópera se combina con la elegancia del concierto\, interpretando arias y piezas que muestran toda la riqueza expresiva de su voz. Una oportunidad imperdible en el Teatro Municipal de Lima\, para vivir de cerca la emoción del canto lírico interpretado por una artista que ha conquistado los principales escenarios del mundo y que promete una experiencia musical inolvidable el próximo 21 de agosto.
URL:https://puroteatro.pe/obra-teatral/marina-rebeka-la-mas-aclamada-soprano-del-momento/
LOCATION:Teatro Principal Manuel Segura\, Jr. Huancavelica 262\, Lima Centro\, Centro de Lima\, Lima\, Peru
CATEGORIES:Musicales
ATTACH;FMTTYPE=image/png:https://puroteatro.pe/wp-content/uploads/2026/04/encabezado-web-94.png
END:VEVENT
END:VCALENDAR