BEGIN:VCALENDAR
VERSION:2.0
PRODID:-//Puro Teatro - ECPv6.15.20//NONSGML v1.0//EN
CALSCALE:GREGORIAN
METHOD:PUBLISH
X-WR-CALNAME:Puro Teatro
X-ORIGINAL-URL:https://puroteatro.pe
X-WR-CALDESC:Eventos para Puro Teatro
REFRESH-INTERVAL;VALUE=DURATION:PT1H
X-Robots-Tag:noindex
X-PUBLISHED-TTL:PT1H
BEGIN:VTIMEZONE
TZID:America/Lima
BEGIN:STANDARD
TZOFFSETFROM:-0500
TZOFFSETTO:-0500
TZNAME:-05
DTSTART:20250101T000000
END:STANDARD
END:VTIMEZONE
BEGIN:VEVENT
DTSTART;TZID=America/Lima:20260520T200000
DTEND;TZID=America/Lima:20260520T210000
DTSTAMP:20260424T051134
CREATED:20260420T010302Z
LAST-MODIFIED:20260420T010302Z
UID:10006564-1779307200-1779310800@puroteatro.pe
SUMMARY:Vida después de la muerte
DESCRIPTION:Oriana Cicconi\, actriz y tanatóloga\, regresa con su unipersonal “Vida después de la Muerte” en su quinta temporada\, una obra que ha emocionado a cientos de personas. \n  \nA través de historias reales\, humor y mucha sensibilidad\, Oriana comparte su experiencia personal tras la pérdida de su madre\, la querida actriz Claudia Dammert\, y brinda herramientas para comprender y atravesar el duelo desde una mirada más amorosa. \n  \nEsta no es solo una obra de teatro… es un espacio para conectar\, entender y transformar la manera en la que vemos la vida y la muerte. \n 
URL:https://puroteatro.pe/obra-teatral/vida-despues-de-la-muerte/2026-05-20/
LOCATION:Teatro del Centro de la Amistad Peruano China\, Av. de la Peruanidad S/N\, Jesus Maria\, Lima\, Lima\, Lima\, Peru
CATEGORIES:Teatro
ATTACH;FMTTYPE=image/png:https://puroteatro.pe/wp-content/uploads/2026/04/encabezado-web-80.png
END:VEVENT
END:VCALENDAR