BEGIN:VCALENDAR
VERSION:2.0
PRODID:-//Puro Teatro - ECPv6.15.20//NONSGML v1.0//EN
CALSCALE:GREGORIAN
METHOD:PUBLISH
X-ORIGINAL-URL:https://puroteatro.pe
X-WR-CALDESC:Eventos para Puro Teatro
REFRESH-INTERVAL;VALUE=DURATION:PT1H
X-Robots-Tag:noindex
X-PUBLISHED-TTL:PT1H
BEGIN:VTIMEZONE
TZID:America/Lima
BEGIN:STANDARD
TZOFFSETFROM:-0500
TZOFFSETTO:-0500
TZNAME:-05
DTSTART:20250101T000000
END:STANDARD
END:VTIMEZONE
BEGIN:VEVENT
DTSTART;TZID=America/Lima:20260424T200000
DTEND;TZID=America/Lima:20260424T210000
DTSTAMP:20260425T052509
CREATED:20260223T160454Z
LAST-MODIFIED:20260223T160454Z
UID:10005605-1777060800-1777064400@puroteatro.pe
SUMMARY:Respirar
DESCRIPTION:Luciana llega de sorpresa al centro de esquí de Vail\, Colorado\, a encontrarse con su hermano mayor Darío\, quién dejó el Perú hace 15 años sin dejar rastro. El reencuentro está atravesado por el silencio debido a las razones de su partida y de la ruptura de lazos familiares (hermana\, padre y madre). Luciana viene a buscarlo porque su madre no se encuentra bien y por una necesidad personal de entender los verdaderos motivos de su partida. Entre las tensiones que vuelven a surgir\, van revelando verdades y mentiras\, familiares y personales. La reconciliación que Luciana busca queda en la fría distancia.
URL:https://puroteatro.pe/obra-teatral/respirar/2026-04-24/
LOCATION:Sala Quilla\, Av. Francisco Bolognesi\, 397\, Barranco\, Lima\, Lima\, Barranco\, Peru
CATEGORIES:Teatro
ATTACH;FMTTYPE=image/jpeg:https://puroteatro.pe/wp-content/uploads/2026/02/encabezado-web-4-1.jpg
END:VEVENT
BEGIN:VEVENT
DTSTART;TZID=America/Lima:20260328T200000
DTEND;TZID=America/Lima:20260328T210000
DTSTAMP:20260425T052510
CREATED:20260209T193842Z
LAST-MODIFIED:20260209T194030Z
UID:10005516-1774728000-1774731600@puroteatro.pe
SUMMARY:Mucho x Nada (Danza-Teatro)
DESCRIPTION:¿Qué significa trabajar en la capital?\nEn escena\, seis cuerpos transforman el cansancio\, la incertidumbre y la censura en danza-teatro.\nLa pieza encarna los encuentros de quienes viven el trajín de la rutina: distancias largas\, embotellamientos y la frustración de perder el tiempo.\nMucho x Nada es un espectáculo para la gente que vive la ciudad en todos sus matices.
URL:https://puroteatro.pe/obra-teatral/mucho-x-nada-danza-teatro/2026-03-28/
LOCATION:Sala Quilla\, Av. Francisco Bolognesi\, 397\, Barranco\, Lima\, Lima\, Barranco\, Peru
CATEGORIES:Musicales
ATTACH;FMTTYPE=image/png:https://puroteatro.pe/wp-content/uploads/2026/02/Diseno-sin-titulo-38.png
END:VEVENT
BEGIN:VEVENT
DTSTART;TZID=America/Lima:20260314T200000
DTEND;TZID=America/Lima:20260314T210000
DTSTAMP:20260425T052510
CREATED:20260209T162345Z
LAST-MODIFIED:20260209T162345Z
UID:10005277-1773518400-1773522000@puroteatro.pe
SUMMARY:¿Juegas? El otro soy yo (Unipersonal payaso)
DESCRIPTION:Sé parte de este unipersonal payaso\, un viaje introspectivo que desafía la esencia misma de la realidad y explora el profundo significado de la soledad en nuestras vidas.
URL:https://puroteatro.pe/obra-teatral/juegas-el-otro-soy-yo-unipersonal-payaso/2026-03-14/
LOCATION:Sala Quilla\, Av. Francisco Bolognesi\, 397\, Barranco\, Lima\, Lima\, Barranco\, Peru
CATEGORIES:Teatro
ATTACH;FMTTYPE=image/jpeg:https://puroteatro.pe/wp-content/uploads/2026/02/Diseno-sin-titulo-22.jpg
END:VEVENT
BEGIN:VEVENT
DTSTART;TZID=America/Lima:20260215T200000
DTEND;TZID=America/Lima:20260215T210000
DTSTAMP:20260425T052510
CREATED:20260118T144908Z
LAST-MODIFIED:20260118T144908Z
UID:10005120-1771185600-1771189200@puroteatro.pe
SUMMARY:La Isla del Tesoro
DESCRIPTION:La Isla del Tesoro\, de Pablo Flores Torres\, es una obra de teatro musical basada en el clásico relato de aventuras\, piratas y mapas secretos\, donde un joven se ve envuelto en una travesía que lo enfrentará a decisiones cruciales sobre la lealtad\, el coraje y la ambición.
URL:https://puroteatro.pe/obra-teatral/la-isla-del-tesoro/2026-02-15/2/
LOCATION:Sala Quilla\, Av. Francisco Bolognesi\, 397\, Barranco\, Lima\, Lima\, Barranco\, Peru
CATEGORIES:Musicales
ATTACH;FMTTYPE=image/jpeg:https://puroteatro.pe/wp-content/uploads/2026/01/Diseno-sin-titulo-33.jpg
END:VEVENT
BEGIN:VEVENT
DTSTART;TZID=America/Lima:20260214T200000
DTEND;TZID=America/Lima:20260214T210000
DTSTAMP:20260425T052510
CREATED:20260118T144530Z
LAST-MODIFIED:20260118T144530Z
UID:10005118-1771099200-1771102800@puroteatro.pe
SUMMARY:El musical de tu amor. Teatro Musical Improvisado
DESCRIPTION:El Musical de Tu Amor es un espectáculo de teatro musical improvisado donde se crea una obra completa en el momento a partir de lo que el público comparte con nosotros: historias reales de amor\, desamor y vínculos importantes. Con esa información\, el elenco transforma cada función en canciones\, escenas y personajes únicos\, creados en vivo junto al público.
URL:https://puroteatro.pe/obra-teatral/el-musical-de-tu-amor-teatro-musical-improvisado/
LOCATION:Sala Quilla\, Av. Francisco Bolognesi\, 397\, Barranco\, Lima\, Lima\, Barranco\, Peru
CATEGORIES:Musicales
ATTACH;FMTTYPE=image/jpeg:https://puroteatro.pe/wp-content/uploads/2026/01/Diseno-sin-titulo-32.jpg
END:VEVENT
BEGIN:VEVENT
DTSTART;TZID=America/Lima:20260201T190000
DTEND;TZID=America/Lima:20260201T200000
DTSTAMP:20260425T052510
CREATED:20251219T212300Z
LAST-MODIFIED:20251219T212300Z
UID:10004584-1769972400-1769976000@puroteatro.pe
SUMMARY:Los votos de nadie
DESCRIPTION:¡Perú\, 2026! El presidente recién electo Don Domingo Díaz inicia su mandato… pero una sola voz que se atreve a cuestionarlo desata un caos inesperado dentro del palacio. \nLos Votos de Nadie es una obra intensa\, divertida y explosiva que mezcla política\, humor negro y suspenso para mostrar lo que pasa cuando el poder deja de escuchar al pueblo. Vive una historia que te hará reír\, incomodarte y pensar. \nUn espectáculo para no quedarse callados.
URL:https://puroteatro.pe/obra-teatral/los-votos-de-nadie/2026-02-01/
LOCATION:Sala Quilla\, Av. Francisco Bolognesi\, 397\, Barranco\, Lima\, Lima\, Barranco\, Peru
CATEGORIES:Teatro
ATTACH;FMTTYPE=image/png:https://puroteatro.pe/wp-content/uploads/2025/12/los-votos-de-nadie.png
END:VEVENT
END:VCALENDAR