BEGIN:VCALENDAR
VERSION:2.0
PRODID:-//Puro Teatro - ECPv6.15.20//NONSGML v1.0//EN
CALSCALE:GREGORIAN
METHOD:PUBLISH
X-WR-CALNAME:Puro Teatro
X-ORIGINAL-URL:https://puroteatro.pe
X-WR-CALDESC:Eventos para Puro Teatro
REFRESH-INTERVAL;VALUE=DURATION:PT1H
X-Robots-Tag:noindex
X-PUBLISHED-TTL:PT1H
BEGIN:VTIMEZONE
TZID:America/Lima
BEGIN:STANDARD
TZOFFSETFROM:-0500
TZOFFSETTO:-0500
TZNAME:-05
DTSTART:20250101T000000
END:STANDARD
END:VTIMEZONE
BEGIN:VEVENT
DTSTART;TZID=America/Lima:20260502T160000
DTEND;TZID=America/Lima:20260502T170000
DTSTAMP:20260424T134259
CREATED:20260302T172926Z
LAST-MODIFIED:20260302T172926Z
UID:10005861-1777737600-1777741200@puroteatro.pe
SUMMARY:Cenicienta. El musical
DESCRIPTION:
URL:https://puroteatro.pe/obra-teatral/cenicienta-el-musical/2026-05-02/1/
LOCATION:Sala Alzedo del Teatro Segura\, Teatro Segura\, Jirón Huancavelica\, Lima\, Perú\, Lima\, Lima\, Peru
CATEGORIES:Musicales
ATTACH;FMTTYPE=image/jpeg:https://puroteatro.pe/wp-content/uploads/2026/03/encabezado-web-31.jpg
END:VEVENT
BEGIN:VEVENT
DTSTART;TZID=America/Lima:20260508T200000
DTEND;TZID=America/Lima:20260508T210000
DTSTAMP:20260424T134259
CREATED:20260315T143050Z
LAST-MODIFIED:20260315T143050Z
UID:10005989-1778270400-1778274000@puroteatro.pe
SUMMARY:El Alcalde de Zalamea
DESCRIPTION:No hables mal de las mujeres; \nla más humilde te digo \nque es digna de estimación\, \nporque\, al fin\, de ellas nacimos. \n«EL ALCALDE DE ZALAMEA» (Calderón de la Barca)
URL:https://puroteatro.pe/obra-teatral/el-alcalde-de-zalamea/2026-05-08/
LOCATION:Sala Alzedo del Teatro Segura\, Teatro Segura\, Jirón Huancavelica\, Lima\, Perú\, Lima\, Lima\, Peru
CATEGORIES:Teatro
ATTACH;FMTTYPE=image/jpeg:https://puroteatro.pe/wp-content/uploads/2026/03/encabezado-web-14.jpg
END:VEVENT
BEGIN:VEVENT
DTSTART;TZID=America/Lima:20260530T193000
DTEND;TZID=America/Lima:20260530T203000
DTSTAMP:20260424T134259
CREATED:20260112T130529Z
LAST-MODIFIED:20260112T130529Z
UID:10004977-1780169400-1780173000@puroteatro.pe
SUMMARY:Música Clásica para todos
DESCRIPTION:Este Sábado 30 de Mayo\, te invitamos a la emblemática Sala Alzedo del Teatro Segura para disfrutar de un viaje musical que une lo mejor de dos mundos: la belleza de los grandes clásicos y la energía de los ritmos latinos.\nEl dúo conformado por Sofía Barreto (violín) y Leonardo Barreto (piano) presenta una propuesta fresca y cercana\, diseñada para emocionar tanto a conocedores como a quienes asisten a su primer concierto. \n¿Qué hace especial a esta noche?\nSerá un concierto explicado\, donde comentaremos las historias detrás de cada pieza para conectar mejor con la música.\nEl repertorio incluye obras maestras de la música académica\, seguidas de una vibrante selección de música peruana y latinoamericana. Todo esto presentado con arreglos exclusivos escritos por el pianista Leonardo Barreto\, quien además presentará una composición original de su autoría.
URL:https://puroteatro.pe/obra-teatral/musica-clasica-para-todos/
LOCATION:Sala Alzedo del Teatro Segura\, Teatro Segura\, Jirón Huancavelica\, Lima\, Perú\, Lima\, Lima\, Peru
CATEGORIES:Musicales
ATTACH;FMTTYPE=image/jpeg:https://puroteatro.pe/wp-content/uploads/2026/01/Diseno-sin-titulo-8-1.jpg
END:VEVENT
END:VCALENDAR