BEGIN:VCALENDAR
VERSION:2.0
PRODID:-//Puro Teatro - ECPv6.15.20//NONSGML v1.0//EN
CALSCALE:GREGORIAN
METHOD:PUBLISH
X-ORIGINAL-URL:https://puroteatro.pe
X-WR-CALDESC:Eventos para Puro Teatro
REFRESH-INTERVAL;VALUE=DURATION:PT1H
X-Robots-Tag:noindex
X-PUBLISHED-TTL:PT1H
BEGIN:VTIMEZONE
TZID:America/Lima
BEGIN:STANDARD
TZOFFSETFROM:-0500
TZOFFSETTO:-0500
TZNAME:-05
DTSTART:20250101T000000
END:STANDARD
END:VTIMEZONE
BEGIN:VEVENT
DTSTART;TZID=America/Lima:20260425T170000
DTEND;TZID=America/Lima:20260425T180000
DTSTAMP:20260425T231840
CREATED:20260404T144337Z
LAST-MODIFIED:20260404T144946Z
UID:10006382-1777136400-1777140000@puroteatro.pe
SUMMARY:Un cuento mágico
DESCRIPTION:UNA OBRA DE TEATRO INCLUSIVA VIVENCIAL\, FUSIONADA CON TÍTERES Y ACTORES PARA TODA LA FAMILIA \nES LA HISTORIA DE UNA MADRE QUE LUEGO DE 20 AÑOS SE ENCUENTRA CON SUS GEMELOS GRACIAS A LA AYUDA DE LA RANITA GERTRUDIS\,
URL:https://puroteatro.pe/obra-teatral/un-cuento-magico-2/2026-04-25/
LOCATION:LA RANA EMPRENDEDORA\, Av. Pedro de Osma 135\, Lima 15063\, Perú\, Lima\, Lima\, Peru
CATEGORIES:Teatro Infantil
ATTACH;FMTTYPE=image/png:https://puroteatro.pe/wp-content/uploads/2026/04/encabezado-web-20.png
END:VEVENT
END:VCALENDAR