BEGIN:VCALENDAR
VERSION:2.0
PRODID:-//Puro Teatro - ECPv6.15.20//NONSGML v1.0//EN
CALSCALE:GREGORIAN
METHOD:PUBLISH
X-ORIGINAL-URL:https://puroteatro.pe
X-WR-CALDESC:Eventos para Puro Teatro
REFRESH-INTERVAL;VALUE=DURATION:PT1H
X-Robots-Tag:noindex
X-PUBLISHED-TTL:PT1H
BEGIN:VTIMEZONE
TZID:America/Lima
BEGIN:STANDARD
TZOFFSETFROM:-0500
TZOFFSETTO:-0500
TZNAME:-05
DTSTART:20250101T000000
END:STANDARD
END:VTIMEZONE
BEGIN:VEVENT
DTSTART;TZID=America/Lima:20260508T200000
DTEND;TZID=America/Lima:20260508T210000
DTSTAMP:20260424T115536
CREATED:20260216T140200Z
LAST-MODIFIED:20260216T140200Z
UID:10005555-1778270400-1778274000@puroteatro.pe
SUMMARY:Con todo menos miedo - Unipersonal de Natalia Salas - 2026
DESCRIPTION:A través del humor y la música quiero contarles mi historia. Con caídas y victorias. Con derrumbes y salvaciones. Escenificaré cómo decidí ver la vida y cómo este enfoque me ayudó a superar mucho (por no decir todo). Quiero esparcir el poder personal\, la lucha y búsqueda de sueños\, la autosanación y cómo el humor puede ser un gran salvavidas. Dirigido por Natalia Salas y Francisco Luna
URL:https://puroteatro.pe/obra-teatral/con-todo-menos-miedo-unipersonal-de-natalia-salas-2026/2026-05-08/
LOCATION:Centro de Convenciones Bianca\, Av. Almte. Miguel Grau 135\, Barranco\, Barranco\, LIMA\, Peru
CATEGORIES:Teatro
ATTACH;FMTTYPE=image/jpeg:https://puroteatro.pe/wp-content/uploads/2026/02/encabezado-web-4.jpg
END:VEVENT
END:VCALENDAR