BEGIN:VCALENDAR
VERSION:2.0
PRODID:-//Puro Teatro - ECPv6.15.20//NONSGML v1.0//EN
CALSCALE:GREGORIAN
METHOD:PUBLISH
X-WR-CALNAME:Puro Teatro
X-ORIGINAL-URL:https://puroteatro.pe
X-WR-CALDESC:Eventos para Puro Teatro
REFRESH-INTERVAL;VALUE=DURATION:PT1H
X-Robots-Tag:noindex
X-PUBLISHED-TTL:PT1H
BEGIN:VTIMEZONE
TZID:America/Lima
BEGIN:STANDARD
TZOFFSETFROM:-0500
TZOFFSETTO:-0500
TZNAME:-05
DTSTART:20250101T000000
END:STANDARD
END:VTIMEZONE
BEGIN:VEVENT
DTSTART;TZID=America/Lima:20260228T200000
DTEND;TZID=America/Lima:20260228T210000
DTSTAMP:20260424T134034
CREATED:20251208T032644Z
LAST-MODIFIED:20251208T032659Z
UID:10003761-1772308800-1772312400@puroteatro.pe
SUMMARY:Se busca marido cama afuera
DESCRIPTION:Los tiempos cambiaron… y ahora también las reglas del juego. \nJohanna San Miguel regresa solo por 3 funciones en una edición especial de “Se busca marido cama afuera”\, una cita imperdible para celebrar el amor\, el desamor y\, sobre todo\, el amor propio. \nSi estás sin pareja y tu familia empieza a preocuparse por ti… Si la sociedad te ha hecho creer que\, por ser mujer\, tienes “fecha de caducidad”… o si estás en búsqueda de hombres y te parece una misión imposible\,¡Tranquila! Porque Johanna San Miguel llega con los mejores tips para lograrlo (o\, al menos\, para reírte en el intento). \nEn esta divertida terapia de humor\, Johanna revive a sus entrañables personajes como queca\, la mujer maravilla y Candy\, quienes nos muestran cómo han cambiado las relaciones\, las mujeres y la forma de amar. A través de anécdotas\, reflexiones y música en vivo\, la actriz comparte con el público lo que significa ser mujer en tiempos de independencia\, autocuidado y amor propio. \nNo te pierdas esta versión especial por solo tres funciones: los días 21 DE NOV\, 19 DE DIC y 27 de DIC a las 8:00 p.m. en el centro de convenciones Bianca para despedir el año de la mejor manera
URL:https://puroteatro.pe/obra-teatral/se-busca-marido-cama-afuera-2/2026-02-28/
LOCATION:Centro de Convenciones Bianca\, Av. Almte. Miguel Grau 135\, Barranco\, Barranco\, LIMA\, Peru
CATEGORIES:Teatro
ATTACH;FMTTYPE=image/jpeg:https://puroteatro.pe/wp-content/uploads/2025/12/se-busca-marido-cama-afuera.jpg
END:VEVENT
END:VCALENDAR