BEGIN:VCALENDAR
VERSION:2.0
PRODID:-//Puro Teatro - ECPv6.15.20//NONSGML v1.0//EN
CALSCALE:GREGORIAN
METHOD:PUBLISH
X-ORIGINAL-URL:https://puroteatro.pe
X-WR-CALDESC:Eventos para Puro Teatro
REFRESH-INTERVAL;VALUE=DURATION:PT1H
X-Robots-Tag:noindex
X-PUBLISHED-TTL:PT1H
BEGIN:VTIMEZONE
TZID:America/Lima
BEGIN:STANDARD
TZOFFSETFROM:-0500
TZOFFSETTO:-0500
TZNAME:-05
DTSTART:20250101T000000
END:STANDARD
END:VTIMEZONE
BEGIN:VEVENT
DTSTART;TZID=America/Lima:20260421T203000
DTEND;TZID=America/Lima:20260421T213000
DTSTAMP:20260420T184400
CREATED:20260405T180132Z
LAST-MODIFIED:20260405T213438Z
UID:10006425-1776803400-1776807000@puroteatro.pe
SUMMARY:ENSUEÑO  - UN REGUETÓN PARA LA 3RA EDAD (Dos obras en la misma noche)
DESCRIPTION:Fechas y hora:\nMartes 7 de abril de 2026 (8:30 pm)\nMartes 14 de abril de 2026 (8:30 pm)\nMartes 21 de abril de 2026 (8:30 pm)\nMartes 28 de abril de 2026 (8:30 pm)\nLas dos obras a sólo s/35 escribiendo al celular de @ensueno.musical: 970207250 \nSinopsis Ensueño:\nGeronimo\, un aviador\, ha pasado demasiado tiempo esperando a su alma gemela. Mientras tanto Clod\, el payaso\, se ha encargado de mantenerlo entretenido con trucos y juegos circenses. Todo cambia cuando Geronimo encuentra un zapato que aparece misteriosamente. ¿Qué pasará cuando Alma llegue en busca de su zapato? \nSinopsis Un Reguetón para la 3ra Edad:\nAunque parezca el otoño de la vida\, la tercera edad es una etapa fascinante\, alegre\, viva\, hasta el amor puede tocar a la puerta. Dos adultos mayores se encuentran y hay una conexión inmediata. ¿Bailarán reguetón? ¿Dirán si al amor?
URL:https://puroteatro.pe/obra-teatral/ensueno-un-regueton-para-la-3ra-edad-dos-obras-en-la-misma-noche/2026-04-21/
LOCATION:Basement del Hotel NAIA\, Alcanfores 465. Miraflores\, Lima\, Lima\, Peru
CATEGORIES:Teatro
ATTACH;FMTTYPE=image/jpeg:https://puroteatro.pe/wp-content/uploads/2026/04/encabezado-web-2.jpg
END:VEVENT
END:VCALENDAR