BEGIN:VCALENDAR
VERSION:2.0
PRODID:-//Puro Teatro - ECPv6.15.20//NONSGML v1.0//EN
CALSCALE:GREGORIAN
METHOD:PUBLISH
X-ORIGINAL-URL:https://puroteatro.pe
X-WR-CALDESC:Eventos para Puro Teatro
REFRESH-INTERVAL;VALUE=DURATION:PT1H
X-Robots-Tag:noindex
X-PUBLISHED-TTL:PT1H
BEGIN:VTIMEZONE
TZID:America/Lima
BEGIN:STANDARD
TZOFFSETFROM:-0500
TZOFFSETTO:-0500
TZNAME:-05
DTSTART:20250101T000000
END:STANDARD
END:VTIMEZONE
BEGIN:VEVENT
DTSTART;TZID=America/Lima:20260422T203000
DTEND;TZID=America/Lima:20260422T213000
DTSTAMP:20260422T092604
CREATED:20260309T172935Z
LAST-MODIFIED:20260309T172935Z
UID:10005975-1776889800-1776893400@puroteatro.pe
SUMMARY:Escenas de la vida conyugal
DESCRIPTION:La obra fue estrenada en 2013 en el Teatro Maipo de Buenos Aires\, donde llevó a cabo dos exitosas temporadas\, luego se presentó en varias ciudades y teatros importantes de la Argentina. La gira continuó en Santiago de Chile\, Montevideo (Uruguay)\, Lima (Perú) y España. Siendo 2025 su noveno año de gira por diferentes ciudades españolas con localidades agotadas. \nEn esta versión teatral que Ingmar Bergman realizada sobre su película del mismo nombre\, el autor nos presenta a Juan y Mariana – sus dos protagonistas – relatando al público una secuencia de escenas que tiene que ver con la relación que mantienen durante su matrimonio y la que continuarán llevando aún después de haberse divorciado. \nLa veracidad con que estas instancias están representadas hace imposible que el público asistente no se identifique por lo menos con algunas de las reacciones de sus personajes\, que tanto pueden resultar divertidas como dramáticas pero que siempre tienen que ver con el amor y la condición humana\, que es en lo que reside el gran éxito de esta obra.
URL:https://puroteatro.pe/obra-teatral/escenas-de-la-vida-conyugal/2026-04-22/
LOCATION:Auditorio del Pentagonito\, Av. Paseo del Bosque 740\, distrito de San Borja\, Lima\, Perú\, Lima\, Lima\, Peru
CATEGORIES:Teatro
ATTACH;FMTTYPE=image/jpeg:https://puroteatro.pe/wp-content/uploads/2026/03/encabezado-web-46.jpg
END:VEVENT
BEGIN:VEVENT
DTSTART;TZID=America/Lima:20260422T203000
DTEND;TZID=America/Lima:20260422T213000
DTSTAMP:20260422T092604
CREATED:20260412T180315Z
LAST-MODIFIED:20260412T180315Z
UID:10006466-1776889800-1776893400@puroteatro.pe
SUMMARY:Escenas de la vida conyugal (2 nuevas y últimas funciones)
DESCRIPTION:La obra fue estrenada en 2013 en el Teatro Maipo de Buenos Aires\, donde llevó a cabo dos exitosas temporadas\, luego se presentó en varias ciudades y teatros importantes de la Argentina. La gira continuó en Santiago de Chile\, Montevideo (Uruguay)\, Lima (Perú) y España. Siendo 2025 su noveno año de gira por diferentes ciudades españolas con localidades agotadas. \nEn esta versión teatral que Ingmar Bergman realizada sobre su película del mismo nombre\, el autor nos presenta a Juan y Mariana – sus dos protagonistas – relatando al público una secuencia de escenas que tiene que ver con la relación que mantienen durante su matrimonio y la que continuarán llevando aún después de haberse divorciado. \nLa veracidad con que estas instancias están representadas hace imposible que el público asistente no se identifique por lo menos con algunas de las reacciones de sus personajes\, que tanto pueden resultar divertidas como dramáticas pero que siempre tienen que ver con el amor y la condición humana\, que es en lo que reside el gran éxito de esta obra
URL:https://puroteatro.pe/obra-teatral/escenas-de-la-vida-conyugal-2-nuevas-y-ultimas-funciones/2026-04-22/
LOCATION:Auditorio del Pentagonito\, Av. Paseo del Bosque 740\, distrito de San Borja\, Lima\, Perú\, Lima\, Lima\, Peru
CATEGORIES:Teatro
ATTACH;FMTTYPE=image/png:https://puroteatro.pe/wp-content/uploads/2026/04/encabezado-web-74.png
END:VEVENT
END:VCALENDAR