BEGIN:VCALENDAR
VERSION:2.0
PRODID:-//Puro Teatro - ECPv6.15.20//NONSGML v1.0//EN
CALSCALE:GREGORIAN
METHOD:PUBLISH
X-WR-CALNAME:Puro Teatro
X-ORIGINAL-URL:https://puroteatro.pe
X-WR-CALDESC:Eventos para Puro Teatro
REFRESH-INTERVAL;VALUE=DURATION:PT1H
X-Robots-Tag:noindex
X-PUBLISHED-TTL:PT1H
BEGIN:VTIMEZONE
TZID:America/Lima
BEGIN:STANDARD
TZOFFSETFROM:-0500
TZOFFSETTO:-0500
TZNAME:-05
DTSTART:20250101T000000
END:STANDARD
END:VTIMEZONE
BEGIN:VEVENT
DTSTART;TZID=America/Lima:20260425T103000
DTEND;TZID=America/Lima:20260425T113000
DTSTAMP:20260425T073227
CREATED:20260223T205025Z
LAST-MODIFIED:20260223T205025Z
UID:10005662-1777113000-1777116600@puroteatro.pe
SUMMARY:MI PRIMER CONCIERTO – Jazz & Rock Niños y niñas de 0 a 3 años
DESCRIPTION:El grupo Pam Pam te invita a participar en un concierto creado especialmente para la primera infancia: un viaje sonoro para descubrir el mundo a través de ritmos\, juegos musicales y melodías que combinan rock\, jazz y guiños a clásicos de bandas como Queen y The Beatles. \n  \nSerá un espacio pensado para jugar\, cantar\, moverse y explorar\, despertando la imaginación y fortaleciendo el vínculo familiar. \n  \nUna experiencia única para descubrir\, sentir y disfrutar en familia\, creando momentos especiales junto a los más pequeños. \n  \n¡Música en vivo para pequeños grandes momentos!
URL:https://puroteatro.pe/obra-teatral/mi-primer-concierto-jazz-rock-ninos-y-ninas-de-0-a-3-anos/2026-04-25/1/
LOCATION:Auditorio Británico Miraflores\, Bellavista 531\, Miraflores\, Miraflores\, Peru
CATEGORIES:Musicales
ATTACH;FMTTYPE=image/jpeg:https://puroteatro.pe/wp-content/uploads/2026/02/encabezado-web-18.jpg
END:VEVENT
BEGIN:VEVENT
DTSTART;TZID=America/Lima:20260425T160000
DTEND;TZID=America/Lima:20260425T170000
DTSTAMP:20260425T073227
CREATED:20260223T210331Z
LAST-MODIFIED:20260223T210331Z
UID:10005665-1777132800-1777136400@puroteatro.pe
SUMMARY:MI PRIMER CONCIERTO – Jazz & Rock Niños y niñas de 4 a 6 años
DESCRIPTION:El grupo Pam Pam te invita a participar en un concierto creado especialmente para la primera infancia: un viaje sonoro para descubrir el mundo a través de ritmos\, juegos musicales y melodías que combinan rock\, jazz y guiños a clásicos de bandas como Queen y The Beatles. \n  \nSerá un espacio pensado para jugar\, cantar\, moverse y explorar\, despertando la imaginación y fortaleciendo el vínculo familiar. \n  \nUna experiencia única para descubrir\, sentir y disfrutar en familia\, creando momentos especiales junto a los más pequeños. \n  \n¡Música en vivo para pequeños grandes momentos! \n 
URL:https://puroteatro.pe/obra-teatral/mi-primer-concierto-jazz-rock-ninos-y-ninas-de-4-a-6-anos/
LOCATION:Auditorio Británico Miraflores\, Bellavista 531\, Miraflores\, Miraflores\, Peru
CATEGORIES:Musicales
ATTACH;FMTTYPE=image/jpeg:https://puroteatro.pe/wp-content/uploads/2026/02/encabezado-web-19.jpg
END:VEVENT
BEGIN:VEVENT
DTSTART;TZID=America/Lima:20260426T200000
DTEND;TZID=America/Lima:20260426T210000
DTSTAMP:20260425T073227
CREATED:20260405T155844Z
LAST-MODIFIED:20260405T155844Z
UID:10006417-1777233600-1777237200@puroteatro.pe
SUMMARY:CENIZAS – Espectáculo musical
DESCRIPTION:En un antiguo bar abandonado\, un pianista nostálgico regresa al lugar donde su infancia estuvo marcada por la música y los boleros. Al caer la noche\, el espacio se transforma mágicamente y aparece ELLA\, una mujer enigmática que parece encarnar a Toña La Negra\, o quizá a la propia muerte. Juntos\, entre canciones inolvidables y confesiones íntimas\, reviven amores\, dolores y secretos que los definen. \n  \nA través de un acto único\, Cenizas es un espectáculo musical que mezcla teatro\, bolero y memoria.
URL:https://puroteatro.pe/obra-teatral/cenizas-espectaculo-musical/2026-04-26/
LOCATION:Auditorio Británico Miraflores\, Bellavista 531\, Miraflores\, Miraflores\, Peru
CATEGORIES:Musicales
ATTACH;FMTTYPE=image/png:https://puroteatro.pe/wp-content/uploads/2026/04/encabezado-web-63.png
END:VEVENT
BEGIN:VEVENT
DTSTART;TZID=America/Lima:20260429T203000
DTEND;TZID=America/Lima:20260429T213000
DTSTAMP:20260425T073227
CREATED:20260404T141830Z
LAST-MODIFIED:20260404T141830Z
UID:10006366-1777494600-1777498200@puroteatro.pe
SUMMARY:Cómo salir de la depresión escuchando a Charly
DESCRIPTION:Unipersonal que sigue a Gabriel\, un músico limeño en plena crisis creativa y emocional. Aislado en su pequeño cuarto\, lucha contra una depresión que intenta comprender a través de la música de Charly García\, ícono del rock en español y parte fundamental de la banda sonora de su vida. \n  \nA medida que Gabriel explora recuerdos\, conversaciones\, videos\, canciones y fragmentos de su propia historia\, la obra lo acompaña en un viaje profundamente humano: el duelo por lo que ya no es\, la ansiedad por su futuro\, el peso de las expectativas y el intento de encontrar sentido entre la vulnerabilidad y el arte. \n  \nLa presencia simbólica de Charly —su música\, sus entrevistas\, su figura mítica— se convierte en un espejo y guía que ayuda a Gabriel a desarmarse\, a aceptarse y a liberarse de la autoexigencia. Más que un tributo musical\, la obra es un retrato íntimo sobre la depresión\, la creatividad y la reconciliación con uno mismo.
URL:https://puroteatro.pe/obra-teatral/como-salir-de-la-depresion-escuchando-a-charly/2026-04-29/
LOCATION:Auditorio Británico Miraflores\, Bellavista 531\, Miraflores\, Miraflores\, Peru
CATEGORIES:Teatro
ATTACH;FMTTYPE=image/png:https://puroteatro.pe/wp-content/uploads/2026/04/encabezado-web-17.png
END:VEVENT
BEGIN:VEVENT
DTSTART;TZID=America/Lima:20260514T180000
DTEND;TZID=America/Lima:20260514T190000
DTSTAMP:20260425T073227
CREATED:20260118T141408Z
LAST-MODIFIED:20260118T141408Z
UID:10005084-1778781600-1778785200@puroteatro.pe
SUMMARY:Y si soy un ángel
DESCRIPTION:¿Él o ella? Un cuerpo andando en una trotadora\, sin inicio o final\, solo el aquí constante y suspendido entre el detrás y el adelante. Un cuerpo que se transforma andando hacia lo divino\, que se desdibuja a sí misma para encontrarse con su propia manera de ser un ángel. \nEsta pieza explora el proceso de transición de género a través del caminar como acción poética para el autodescubrimiento. Recorre prácticas como el modelaje\, el andar y el voguing para encontrar en la trotadora una manera de preguntarse por los procesos de transformación humana.
URL:https://puroteatro.pe/obra-teatral/y-si-soy-un-angel/2026-05-14/
LOCATION:Auditorio Británico Miraflores\, Bellavista 531\, Miraflores\, Miraflores\, Peru
CATEGORIES:Teatro
ATTACH;FMTTYPE=image/png:https://puroteatro.pe/wp-content/uploads/2026/01/Diseno-sin-titulo-27.png
END:VEVENT
BEGIN:VEVENT
DTSTART;TZID=America/Lima:20260516T203000
DTEND;TZID=America/Lima:20260516T213000
DTSTAMP:20260425T073227
CREATED:20260412T173824Z
LAST-MODIFIED:20260412T173824Z
UID:10006443-1778963400-1778967000@puroteatro.pe
SUMMARY:Rituales para despedirse
DESCRIPTION:En una Lima asfixiada por la pandemia\, un robo une tres destinos: Napoleón\, un policía en retiro que lucha por conseguir dinero para salvar la vida de su esposa; María\, una comerciante\, que se enfrenta al desalojo junto con su hijo; y Jairo\, un niño de diez años\, que despierta solo tras una pelea familiar\, hasta que un extraño golpea la puerta. \n  \nCuando la muerte irrumpe en sus vidas y lo inexplicable empieza a cruzar el umbral de lo real\, surge la posibilidad de un último ritual de despedida.
URL:https://puroteatro.pe/obra-teatral/rituales-para-despedirse/2026-05-16/
LOCATION:Auditorio Británico Miraflores\, Bellavista 531\, Miraflores\, Miraflores\, Peru
CATEGORIES:Teatro
ATTACH;FMTTYPE=image/png:https://puroteatro.pe/wp-content/uploads/2026/04/encabezado-web-69.png
END:VEVENT
END:VCALENDAR