BEGIN:VCALENDAR
VERSION:2.0
PRODID:-//Puro Teatro - ECPv6.15.20//NONSGML v1.0//EN
CALSCALE:GREGORIAN
METHOD:PUBLISH
X-WR-CALNAME:Puro Teatro
X-ORIGINAL-URL:https://puroteatro.pe
X-WR-CALDESC:Eventos para Puro Teatro
REFRESH-INTERVAL;VALUE=DURATION:PT1H
X-Robots-Tag:noindex
X-PUBLISHED-TTL:PT1H
BEGIN:VTIMEZONE
TZID:America/Lima
BEGIN:STANDARD
TZOFFSETFROM:-0500
TZOFFSETTO:-0500
TZNAME:-05
DTSTART:20250101T000000
END:STANDARD
END:VTIMEZONE
BEGIN:VEVENT
DTSTART;TZID=America/Lima:20260508T200000
DTEND;TZID=America/Lima:20260508T210000
DTSTAMP:20260425T134842
CREATED:20260412T172416Z
LAST-MODIFIED:20260412T172416Z
UID:10006431-1778270400-1778274000@puroteatro.pe
SUMMARY:Clorinda
DESCRIPTION:Después de una exitosa temporada en el 2025 y diversos reconocimientos por la interpretación de Natalia Torres Vilar\, Clorinda vuelve al escenario de la Asociación de Artistas Aficionados por sólo 12 funciones
URL:https://puroteatro.pe/obra-teatral/clorinda/2026-05-08/
LOCATION:Asociación de Artistas Aficionados\, Asociación de Artistas Aficionados\, Jirón Ica 323\, Lima\, Perú\, Lima\, Lima\, Peru
CATEGORIES:Teatro
ATTACH;FMTTYPE=image/png:https://puroteatro.pe/wp-content/uploads/2026/04/encabezado-web-68.png
END:VEVENT
END:VCALENDAR