BEGIN:VCALENDAR
VERSION:2.0
PRODID:-//Puro Teatro - ECPv6.15.20//NONSGML v1.0//EN
CALSCALE:GREGORIAN
METHOD:PUBLISH
X-WR-CALNAME:Puro Teatro
X-ORIGINAL-URL:https://puroteatro.pe
X-WR-CALDESC:Eventos para Puro Teatro
REFRESH-INTERVAL;VALUE=DURATION:PT1H
X-Robots-Tag:noindex
X-PUBLISHED-TTL:PT1H
BEGIN:VTIMEZONE
TZID:America/Lima
BEGIN:STANDARD
TZOFFSETFROM:-0500
TZOFFSETTO:-0500
TZNAME:-05
DTSTART:20250101T000000
END:STANDARD
END:VTIMEZONE
BEGIN:VEVENT
DTSTART;TZID=America/Lima:20260420T200000
DTEND;TZID=America/Lima:20260420T210000
DTSTAMP:20260420T163244
CREATED:20260420T011828Z
LAST-MODIFIED:20260420T011828Z
UID:10006582-1776715200-1776718800@puroteatro.pe
SUMMARY:Las mujeres sabias (de Molière)
DESCRIPTION:Hay lugares donde pensar demasiado… puede volverse un peligro.\nTe presentamos Las mujeres sabias de Molière\, una comedia brillante\, mordaz y peligrosamente actual que desnuda el ego\, las apariencias y esa obsesión por parecer “intelectuales”.\nEntre discursos elevados y falsas erudiciones\, el amor verdadero intenta sobrevivir en medio del caos… ¿lo logrará?\nDirigida por Viviana Andrade. Esta nueva puesta nos enfrenta a una pregunta incómoda: \n¿Cuánto de lo que mostramos es realmente lo que somos? \nUna experiencia divertida\, crítica y sorprendentemente cercana.
URL:https://puroteatro.pe/obra-teatral/las-mujeres-sabias-de-moliere/2026-04-20/
LOCATION:Teatro Barranco\, Av. Grau 701\, Barranco\, Barranco\, Lima\, Peru
CATEGORIES:Teatro
ATTACH;FMTTYPE=image/png:https://puroteatro.pe/wp-content/uploads/2026/04/encabezado-web-86.png
END:VEVENT
BEGIN:VEVENT
DTSTART;TZID=America/Lima:20260424T200000
DTEND;TZID=America/Lima:20260424T210000
DTSTAMP:20260420T163244
CREATED:20260420T011828Z
LAST-MODIFIED:20260420T011828Z
UID:10006583-1777060800-1777064400@puroteatro.pe
SUMMARY:Las mujeres sabias (de Molière)
DESCRIPTION:Hay lugares donde pensar demasiado… puede volverse un peligro.\nTe presentamos Las mujeres sabias de Molière\, una comedia brillante\, mordaz y peligrosamente actual que desnuda el ego\, las apariencias y esa obsesión por parecer “intelectuales”.\nEntre discursos elevados y falsas erudiciones\, el amor verdadero intenta sobrevivir en medio del caos… ¿lo logrará?\nDirigida por Viviana Andrade. Esta nueva puesta nos enfrenta a una pregunta incómoda: \n¿Cuánto de lo que mostramos es realmente lo que somos? \nUna experiencia divertida\, crítica y sorprendentemente cercana.
URL:https://puroteatro.pe/obra-teatral/las-mujeres-sabias-de-moliere/2026-04-24/
LOCATION:Teatro Barranco\, Av. Grau 701\, Barranco\, Barranco\, Lima\, Peru
CATEGORIES:Teatro
ATTACH;FMTTYPE=image/png:https://puroteatro.pe/wp-content/uploads/2026/04/encabezado-web-86.png
END:VEVENT
BEGIN:VEVENT
DTSTART;TZID=America/Lima:20260427T200000
DTEND;TZID=America/Lima:20260427T210000
DTSTAMP:20260420T163244
CREATED:20260420T011828Z
LAST-MODIFIED:20260420T011828Z
UID:10006584-1777320000-1777323600@puroteatro.pe
SUMMARY:Las mujeres sabias (de Molière)
DESCRIPTION:Hay lugares donde pensar demasiado… puede volverse un peligro.\nTe presentamos Las mujeres sabias de Molière\, una comedia brillante\, mordaz y peligrosamente actual que desnuda el ego\, las apariencias y esa obsesión por parecer “intelectuales”.\nEntre discursos elevados y falsas erudiciones\, el amor verdadero intenta sobrevivir en medio del caos… ¿lo logrará?\nDirigida por Viviana Andrade. Esta nueva puesta nos enfrenta a una pregunta incómoda: \n¿Cuánto de lo que mostramos es realmente lo que somos? \nUna experiencia divertida\, crítica y sorprendentemente cercana.
URL:https://puroteatro.pe/obra-teatral/las-mujeres-sabias-de-moliere/2026-04-27/
LOCATION:Teatro Barranco\, Av. Grau 701\, Barranco\, Barranco\, Lima\, Peru
CATEGORIES:Teatro
ATTACH;FMTTYPE=image/png:https://puroteatro.pe/wp-content/uploads/2026/04/encabezado-web-86.png
END:VEVENT
END:VCALENDAR