BEGIN:VCALENDAR
VERSION:2.0
PRODID:-//Puro Teatro - ECPv6.15.20//NONSGML v1.0//EN
CALSCALE:GREGORIAN
METHOD:PUBLISH
X-WR-CALNAME:Puro Teatro
X-ORIGINAL-URL:https://puroteatro.pe
X-WR-CALDESC:Eventos para Puro Teatro
REFRESH-INTERVAL;VALUE=DURATION:PT1H
X-Robots-Tag:noindex
X-PUBLISHED-TTL:PT1H
BEGIN:VTIMEZONE
TZID:America/Lima
BEGIN:STANDARD
TZOFFSETFROM:-0500
TZOFFSETTO:-0500
TZNAME:-05
DTSTART:20250101T000000
END:STANDARD
END:VTIMEZONE
BEGIN:VEVENT
DTSTART;TZID=America/Lima:20260502T203000
DTEND;TZID=America/Lima:20260502T213000
DTSTAMP:20260425T085010
CREATED:20260412T165445Z
LAST-MODIFIED:20260412T165445Z
UID:10006427-1777753800-1777757400@puroteatro.pe
SUMMARY:Aun así\, celebramos
DESCRIPTION:Un cumpleaños\, una comisaría y tú como testigo. ¿Qué vas a decidir\, el silencio o la risa?
URL:https://puroteatro.pe/obra-teatral/aun-asi-celebramos/2026-05-02/
LOCATION:Asociación Cultural Campo Abierto\, General Recavarren 560\, Miraflores\, Lima\, Lima\, Lima\, Peru
CATEGORIES:Teatro
ATTACH;FMTTYPE=image/png:https://puroteatro.pe/wp-content/uploads/2026/04/encabezado-web-67.png
END:VEVENT
BEGIN:VEVENT
DTSTART;TZID=America/Lima:20260509T203000
DTEND;TZID=America/Lima:20260509T213000
DTSTAMP:20260425T085010
CREATED:20260412T165445Z
LAST-MODIFIED:20260412T165445Z
UID:10006428-1778358600-1778362200@puroteatro.pe
SUMMARY:Aun así\, celebramos
DESCRIPTION:Un cumpleaños\, una comisaría y tú como testigo. ¿Qué vas a decidir\, el silencio o la risa?
URL:https://puroteatro.pe/obra-teatral/aun-asi-celebramos/2026-05-09/
LOCATION:Asociación Cultural Campo Abierto\, General Recavarren 560\, Miraflores\, Lima\, Lima\, Lima\, Peru
CATEGORIES:Teatro
ATTACH;FMTTYPE=image/png:https://puroteatro.pe/wp-content/uploads/2026/04/encabezado-web-67.png
END:VEVENT
BEGIN:VEVENT
DTSTART;TZID=America/Lima:20260516T203000
DTEND;TZID=America/Lima:20260516T213000
DTSTAMP:20260425T085010
CREATED:20260412T165445Z
LAST-MODIFIED:20260412T165445Z
UID:10006429-1778963400-1778967000@puroteatro.pe
SUMMARY:Aun así\, celebramos
DESCRIPTION:Un cumpleaños\, una comisaría y tú como testigo. ¿Qué vas a decidir\, el silencio o la risa?
URL:https://puroteatro.pe/obra-teatral/aun-asi-celebramos/2026-05-16/
LOCATION:Asociación Cultural Campo Abierto\, General Recavarren 560\, Miraflores\, Lima\, Lima\, Lima\, Peru
CATEGORIES:Teatro
ATTACH;FMTTYPE=image/png:https://puroteatro.pe/wp-content/uploads/2026/04/encabezado-web-67.png
END:VEVENT
BEGIN:VEVENT
DTSTART;TZID=America/Lima:20260523T203000
DTEND;TZID=America/Lima:20260523T213000
DTSTAMP:20260425T085010
CREATED:20260412T165445Z
LAST-MODIFIED:20260412T165445Z
UID:10006430-1779568200-1779571800@puroteatro.pe
SUMMARY:Aun así\, celebramos
DESCRIPTION:Un cumpleaños\, una comisaría y tú como testigo. ¿Qué vas a decidir\, el silencio o la risa?
URL:https://puroteatro.pe/obra-teatral/aun-asi-celebramos/2026-05-23/
LOCATION:Asociación Cultural Campo Abierto\, General Recavarren 560\, Miraflores\, Lima\, Lima\, Lima\, Peru
CATEGORIES:Teatro
ATTACH;FMTTYPE=image/png:https://puroteatro.pe/wp-content/uploads/2026/04/encabezado-web-67.png
END:VEVENT
END:VCALENDAR