BEGIN:VCALENDAR
VERSION:2.0
PRODID:-//Puro Teatro - ECPv6.15.20//NONSGML v1.0//EN
CALSCALE:GREGORIAN
METHOD:PUBLISH
X-WR-CALNAME:Puro Teatro
X-ORIGINAL-URL:https://puroteatro.pe
X-WR-CALDESC:Eventos para Puro Teatro
REFRESH-INTERVAL;VALUE=DURATION:PT1H
X-Robots-Tag:noindex
X-PUBLISHED-TTL:PT1H
BEGIN:VTIMEZONE
TZID:America/Lima
BEGIN:STANDARD
TZOFFSETFROM:-0500
TZOFFSETTO:-0500
TZNAME:-05
DTSTART:20250101T000000
END:STANDARD
END:VTIMEZONE
BEGIN:VEVENT
DTSTART;TZID=America/Lima:20260426T200000
DTEND;TZID=America/Lima:20260426T210000
DTSTAMP:20260425T091547
CREATED:20260405T155844Z
LAST-MODIFIED:20260405T155844Z
UID:10006417-1777233600-1777237200@puroteatro.pe
SUMMARY:CENIZAS – Espectáculo musical
DESCRIPTION:En un antiguo bar abandonado\, un pianista nostálgico regresa al lugar donde su infancia estuvo marcada por la música y los boleros. Al caer la noche\, el espacio se transforma mágicamente y aparece ELLA\, una mujer enigmática que parece encarnar a Toña La Negra\, o quizá a la propia muerte. Juntos\, entre canciones inolvidables y confesiones íntimas\, reviven amores\, dolores y secretos que los definen. \n  \nA través de un acto único\, Cenizas es un espectáculo musical que mezcla teatro\, bolero y memoria.
URL:https://puroteatro.pe/obra-teatral/cenizas-espectaculo-musical/2026-04-26/
LOCATION:Auditorio Británico Miraflores\, Bellavista 531\, Miraflores\, Miraflores\, Peru
CATEGORIES:Musicales
ATTACH;FMTTYPE=image/png:https://puroteatro.pe/wp-content/uploads/2026/04/encabezado-web-63.png
END:VEVENT
BEGIN:VEVENT
DTSTART;TZID=America/Lima:20260501T203000
DTEND;TZID=America/Lima:20260501T213000
DTSTAMP:20260425T091547
CREATED:20260405T155844Z
LAST-MODIFIED:20260405T155844Z
UID:10006418-1777667400-1777671000@puroteatro.pe
SUMMARY:CENIZAS – Espectáculo musical
DESCRIPTION:En un antiguo bar abandonado\, un pianista nostálgico regresa al lugar donde su infancia estuvo marcada por la música y los boleros. Al caer la noche\, el espacio se transforma mágicamente y aparece ELLA\, una mujer enigmática que parece encarnar a Toña La Negra\, o quizá a la propia muerte. Juntos\, entre canciones inolvidables y confesiones íntimas\, reviven amores\, dolores y secretos que los definen. \n  \nA través de un acto único\, Cenizas es un espectáculo musical que mezcla teatro\, bolero y memoria.
URL:https://puroteatro.pe/obra-teatral/cenizas-espectaculo-musical/2026-05-01/
LOCATION:Auditorio Británico Miraflores\, Bellavista 531\, Miraflores\, Miraflores\, Peru
CATEGORIES:Musicales
ATTACH;FMTTYPE=image/png:https://puroteatro.pe/wp-content/uploads/2026/04/encabezado-web-63.png
END:VEVENT
BEGIN:VEVENT
DTSTART;TZID=America/Lima:20260503T200000
DTEND;TZID=America/Lima:20260503T210000
DTSTAMP:20260425T091547
CREATED:20260405T155844Z
LAST-MODIFIED:20260405T155844Z
UID:10006419-1777838400-1777842000@puroteatro.pe
SUMMARY:CENIZAS – Espectáculo musical
DESCRIPTION:En un antiguo bar abandonado\, un pianista nostálgico regresa al lugar donde su infancia estuvo marcada por la música y los boleros. Al caer la noche\, el espacio se transforma mágicamente y aparece ELLA\, una mujer enigmática que parece encarnar a Toña La Negra\, o quizá a la propia muerte. Juntos\, entre canciones inolvidables y confesiones íntimas\, reviven amores\, dolores y secretos que los definen. \n  \nA través de un acto único\, Cenizas es un espectáculo musical que mezcla teatro\, bolero y memoria.
URL:https://puroteatro.pe/obra-teatral/cenizas-espectaculo-musical/2026-05-03/
LOCATION:Auditorio Británico Miraflores\, Bellavista 531\, Miraflores\, Miraflores\, Peru
CATEGORIES:Musicales
ATTACH;FMTTYPE=image/png:https://puroteatro.pe/wp-content/uploads/2026/04/encabezado-web-63.png
END:VEVENT
END:VCALENDAR