BEGIN:VCALENDAR
VERSION:2.0
PRODID:-//Puro Teatro - ECPv6.15.20//NONSGML v1.0//EN
CALSCALE:GREGORIAN
METHOD:PUBLISH
X-WR-CALNAME:Puro Teatro
X-ORIGINAL-URL:https://puroteatro.pe
X-WR-CALDESC:Eventos para Puro Teatro
REFRESH-INTERVAL;VALUE=DURATION:PT1H
X-Robots-Tag:noindex
X-PUBLISHED-TTL:PT1H
BEGIN:VTIMEZONE
TZID:America/Lima
BEGIN:STANDARD
TZOFFSETFROM:-0500
TZOFFSETTO:-0500
TZNAME:-05
DTSTART:20250101T000000
END:STANDARD
END:VTIMEZONE
BEGIN:VEVENT
DTSTART;TZID=America/Lima:20260502T170000
DTEND;TZID=America/Lima:20260502T180000
DTSTAMP:20260423T042417
CREATED:20260404T143734Z
LAST-MODIFIED:20260404T145828Z
UID:10006371-1777741200-1777744800@puroteatro.pe
SUMMARY:EL PEQUEÑO EINSTEIN
DESCRIPTION:Albert Einstein\, es un pequeño físico que acaba de terminar sus estudios y en su búsqueda de un empleo llega hasta la oficina de patentes donde conoce a Frau Hexe\, la jefa de la oficina que no le hará sencillo su trabajo. Allí Albert después de mucho trabajar y hacer sus experimentos mentales\, desarrolla las cuatro teorías que cambiarían la física. Es así que besa por todos los medios publicar sus teorías pero un celoso y malévolo científico Her Übel\, un ex profesor de Einstein que hará lo imposible para que sus teorías jamás sean publicadas y descubiertas. Albert podrá conseguir mostrar sus grandes teorías al mundo? Ven descúbrelo con “el Pequeño Einstein” Una obra ideal para toda la familia.
URL:https://puroteatro.pe/obra-teatral/el-pequeno-einstein/2026-05-02/
LOCATION:Teatro Juanita Tarnawiecki\, Jirón Sáenz Peña 107\, Barranco\, Barranco\, Lima\, Peru
CATEGORIES:Teatro Infantil
ATTACH;FMTTYPE=image/png:https://puroteatro.pe/wp-content/uploads/2026/04/encabezado-web-19.png
END:VEVENT
BEGIN:VEVENT
DTSTART;TZID=America/Lima:20260509T170000
DTEND;TZID=America/Lima:20260509T180000
DTSTAMP:20260423T042417
CREATED:20260404T143734Z
LAST-MODIFIED:20260404T145828Z
UID:10006372-1778346000-1778349600@puroteatro.pe
SUMMARY:EL PEQUEÑO EINSTEIN
DESCRIPTION:Albert Einstein\, es un pequeño físico que acaba de terminar sus estudios y en su búsqueda de un empleo llega hasta la oficina de patentes donde conoce a Frau Hexe\, la jefa de la oficina que no le hará sencillo su trabajo. Allí Albert después de mucho trabajar y hacer sus experimentos mentales\, desarrolla las cuatro teorías que cambiarían la física. Es así que besa por todos los medios publicar sus teorías pero un celoso y malévolo científico Her Übel\, un ex profesor de Einstein que hará lo imposible para que sus teorías jamás sean publicadas y descubiertas. Albert podrá conseguir mostrar sus grandes teorías al mundo? Ven descúbrelo con “el Pequeño Einstein” Una obra ideal para toda la familia.
URL:https://puroteatro.pe/obra-teatral/el-pequeno-einstein/2026-05-09/
LOCATION:Teatro Juanita Tarnawiecki\, Jirón Sáenz Peña 107\, Barranco\, Barranco\, Lima\, Peru
CATEGORIES:Teatro Infantil
ATTACH;FMTTYPE=image/png:https://puroteatro.pe/wp-content/uploads/2026/04/encabezado-web-19.png
END:VEVENT
BEGIN:VEVENT
DTSTART;TZID=America/Lima:20260516T170000
DTEND;TZID=America/Lima:20260516T180000
DTSTAMP:20260423T042417
CREATED:20260404T143734Z
LAST-MODIFIED:20260404T145828Z
UID:10006373-1778950800-1778954400@puroteatro.pe
SUMMARY:EL PEQUEÑO EINSTEIN
DESCRIPTION:Albert Einstein\, es un pequeño físico que acaba de terminar sus estudios y en su búsqueda de un empleo llega hasta la oficina de patentes donde conoce a Frau Hexe\, la jefa de la oficina que no le hará sencillo su trabajo. Allí Albert después de mucho trabajar y hacer sus experimentos mentales\, desarrolla las cuatro teorías que cambiarían la física. Es así que besa por todos los medios publicar sus teorías pero un celoso y malévolo científico Her Übel\, un ex profesor de Einstein que hará lo imposible para que sus teorías jamás sean publicadas y descubiertas. Albert podrá conseguir mostrar sus grandes teorías al mundo? Ven descúbrelo con “el Pequeño Einstein” Una obra ideal para toda la familia.
URL:https://puroteatro.pe/obra-teatral/el-pequeno-einstein/2026-05-16/
LOCATION:Teatro Juanita Tarnawiecki\, Jirón Sáenz Peña 107\, Barranco\, Barranco\, Lima\, Peru
CATEGORIES:Teatro Infantil
ATTACH;FMTTYPE=image/png:https://puroteatro.pe/wp-content/uploads/2026/04/encabezado-web-19.png
END:VEVENT
BEGIN:VEVENT
DTSTART;TZID=America/Lima:20260523T170000
DTEND;TZID=America/Lima:20260523T180000
DTSTAMP:20260423T042417
CREATED:20260404T143734Z
LAST-MODIFIED:20260404T145828Z
UID:10006374-1779555600-1779559200@puroteatro.pe
SUMMARY:EL PEQUEÑO EINSTEIN
DESCRIPTION:Albert Einstein\, es un pequeño físico que acaba de terminar sus estudios y en su búsqueda de un empleo llega hasta la oficina de patentes donde conoce a Frau Hexe\, la jefa de la oficina que no le hará sencillo su trabajo. Allí Albert después de mucho trabajar y hacer sus experimentos mentales\, desarrolla las cuatro teorías que cambiarían la física. Es así que besa por todos los medios publicar sus teorías pero un celoso y malévolo científico Her Übel\, un ex profesor de Einstein que hará lo imposible para que sus teorías jamás sean publicadas y descubiertas. Albert podrá conseguir mostrar sus grandes teorías al mundo? Ven descúbrelo con “el Pequeño Einstein” Una obra ideal para toda la familia.
URL:https://puroteatro.pe/obra-teatral/el-pequeno-einstein/2026-05-23/
LOCATION:Teatro Juanita Tarnawiecki\, Jirón Sáenz Peña 107\, Barranco\, Barranco\, Lima\, Peru
CATEGORIES:Teatro Infantil
ATTACH;FMTTYPE=image/png:https://puroteatro.pe/wp-content/uploads/2026/04/encabezado-web-19.png
END:VEVENT
BEGIN:VEVENT
DTSTART;TZID=America/Lima:20260530T170000
DTEND;TZID=America/Lima:20260530T180000
DTSTAMP:20260423T042417
CREATED:20260404T143734Z
LAST-MODIFIED:20260404T145828Z
UID:10006375-1780160400-1780164000@puroteatro.pe
SUMMARY:EL PEQUEÑO EINSTEIN
DESCRIPTION:Albert Einstein\, es un pequeño físico que acaba de terminar sus estudios y en su búsqueda de un empleo llega hasta la oficina de patentes donde conoce a Frau Hexe\, la jefa de la oficina que no le hará sencillo su trabajo. Allí Albert después de mucho trabajar y hacer sus experimentos mentales\, desarrolla las cuatro teorías que cambiarían la física. Es así que besa por todos los medios publicar sus teorías pero un celoso y malévolo científico Her Übel\, un ex profesor de Einstein que hará lo imposible para que sus teorías jamás sean publicadas y descubiertas. Albert podrá conseguir mostrar sus grandes teorías al mundo? Ven descúbrelo con “el Pequeño Einstein” Una obra ideal para toda la familia.
URL:https://puroteatro.pe/obra-teatral/el-pequeno-einstein/2026-05-30/
LOCATION:Teatro Juanita Tarnawiecki\, Jirón Sáenz Peña 107\, Barranco\, Barranco\, Lima\, Peru
CATEGORIES:Teatro Infantil
ATTACH;FMTTYPE=image/png:https://puroteatro.pe/wp-content/uploads/2026/04/encabezado-web-19.png
END:VEVENT
BEGIN:VEVENT
DTSTART;TZID=America/Lima:20260606T170000
DTEND;TZID=America/Lima:20260606T180000
DTSTAMP:20260423T042417
CREATED:20260404T143734Z
LAST-MODIFIED:20260404T145828Z
UID:10006376-1780765200-1780768800@puroteatro.pe
SUMMARY:EL PEQUEÑO EINSTEIN
DESCRIPTION:Albert Einstein\, es un pequeño físico que acaba de terminar sus estudios y en su búsqueda de un empleo llega hasta la oficina de patentes donde conoce a Frau Hexe\, la jefa de la oficina que no le hará sencillo su trabajo. Allí Albert después de mucho trabajar y hacer sus experimentos mentales\, desarrolla las cuatro teorías que cambiarían la física. Es así que besa por todos los medios publicar sus teorías pero un celoso y malévolo científico Her Übel\, un ex profesor de Einstein que hará lo imposible para que sus teorías jamás sean publicadas y descubiertas. Albert podrá conseguir mostrar sus grandes teorías al mundo? Ven descúbrelo con “el Pequeño Einstein” Una obra ideal para toda la familia.
URL:https://puroteatro.pe/obra-teatral/el-pequeno-einstein/2026-06-06/
LOCATION:Teatro Juanita Tarnawiecki\, Jirón Sáenz Peña 107\, Barranco\, Barranco\, Lima\, Peru
CATEGORIES:Teatro Infantil
ATTACH;FMTTYPE=image/png:https://puroteatro.pe/wp-content/uploads/2026/04/encabezado-web-19.png
END:VEVENT
BEGIN:VEVENT
DTSTART;TZID=America/Lima:20260613T170000
DTEND;TZID=America/Lima:20260613T180000
DTSTAMP:20260423T042417
CREATED:20260404T143734Z
LAST-MODIFIED:20260404T145828Z
UID:10006377-1781370000-1781373600@puroteatro.pe
SUMMARY:EL PEQUEÑO EINSTEIN
DESCRIPTION:Albert Einstein\, es un pequeño físico que acaba de terminar sus estudios y en su búsqueda de un empleo llega hasta la oficina de patentes donde conoce a Frau Hexe\, la jefa de la oficina que no le hará sencillo su trabajo. Allí Albert después de mucho trabajar y hacer sus experimentos mentales\, desarrolla las cuatro teorías que cambiarían la física. Es así que besa por todos los medios publicar sus teorías pero un celoso y malévolo científico Her Übel\, un ex profesor de Einstein que hará lo imposible para que sus teorías jamás sean publicadas y descubiertas. Albert podrá conseguir mostrar sus grandes teorías al mundo? Ven descúbrelo con “el Pequeño Einstein” Una obra ideal para toda la familia.
URL:https://puroteatro.pe/obra-teatral/el-pequeno-einstein/2026-06-13/
LOCATION:Teatro Juanita Tarnawiecki\, Jirón Sáenz Peña 107\, Barranco\, Barranco\, Lima\, Peru
CATEGORIES:Teatro Infantil
ATTACH;FMTTYPE=image/png:https://puroteatro.pe/wp-content/uploads/2026/04/encabezado-web-19.png
END:VEVENT
BEGIN:VEVENT
DTSTART;TZID=America/Lima:20260620T170000
DTEND;TZID=America/Lima:20260620T180000
DTSTAMP:20260423T042417
CREATED:20260404T143734Z
LAST-MODIFIED:20260404T145828Z
UID:10006378-1781974800-1781978400@puroteatro.pe
SUMMARY:EL PEQUEÑO EINSTEIN
DESCRIPTION:Albert Einstein\, es un pequeño físico que acaba de terminar sus estudios y en su búsqueda de un empleo llega hasta la oficina de patentes donde conoce a Frau Hexe\, la jefa de la oficina que no le hará sencillo su trabajo. Allí Albert después de mucho trabajar y hacer sus experimentos mentales\, desarrolla las cuatro teorías que cambiarían la física. Es así que besa por todos los medios publicar sus teorías pero un celoso y malévolo científico Her Übel\, un ex profesor de Einstein que hará lo imposible para que sus teorías jamás sean publicadas y descubiertas. Albert podrá conseguir mostrar sus grandes teorías al mundo? Ven descúbrelo con “el Pequeño Einstein” Una obra ideal para toda la familia.
URL:https://puroteatro.pe/obra-teatral/el-pequeno-einstein/2026-06-20/
LOCATION:Teatro Juanita Tarnawiecki\, Jirón Sáenz Peña 107\, Barranco\, Barranco\, Lima\, Peru
CATEGORIES:Teatro Infantil
ATTACH;FMTTYPE=image/png:https://puroteatro.pe/wp-content/uploads/2026/04/encabezado-web-19.png
END:VEVENT
BEGIN:VEVENT
DTSTART;TZID=America/Lima:20260627T170000
DTEND;TZID=America/Lima:20260627T180000
DTSTAMP:20260423T042417
CREATED:20260404T143734Z
LAST-MODIFIED:20260404T145828Z
UID:10006379-1782579600-1782583200@puroteatro.pe
SUMMARY:EL PEQUEÑO EINSTEIN
DESCRIPTION:Albert Einstein\, es un pequeño físico que acaba de terminar sus estudios y en su búsqueda de un empleo llega hasta la oficina de patentes donde conoce a Frau Hexe\, la jefa de la oficina que no le hará sencillo su trabajo. Allí Albert después de mucho trabajar y hacer sus experimentos mentales\, desarrolla las cuatro teorías que cambiarían la física. Es así que besa por todos los medios publicar sus teorías pero un celoso y malévolo científico Her Übel\, un ex profesor de Einstein que hará lo imposible para que sus teorías jamás sean publicadas y descubiertas. Albert podrá conseguir mostrar sus grandes teorías al mundo? Ven descúbrelo con “el Pequeño Einstein” Una obra ideal para toda la familia.
URL:https://puroteatro.pe/obra-teatral/el-pequeno-einstein/2026-06-27/
LOCATION:Teatro Juanita Tarnawiecki\, Jirón Sáenz Peña 107\, Barranco\, Barranco\, Lima\, Peru
CATEGORIES:Teatro Infantil
ATTACH;FMTTYPE=image/png:https://puroteatro.pe/wp-content/uploads/2026/04/encabezado-web-19.png
END:VEVENT
END:VCALENDAR