BEGIN:VCALENDAR
VERSION:2.0
PRODID:-//Puro Teatro - ECPv6.15.20//NONSGML v1.0//EN
CALSCALE:GREGORIAN
METHOD:PUBLISH
X-WR-CALNAME:Puro Teatro
X-ORIGINAL-URL:https://puroteatro.pe
X-WR-CALDESC:Eventos para Puro Teatro
REFRESH-INTERVAL;VALUE=DURATION:PT1H
X-Robots-Tag:noindex
X-PUBLISHED-TTL:PT1H
BEGIN:VTIMEZONE
TZID:America/Lima
BEGIN:STANDARD
TZOFFSETFROM:-0500
TZOFFSETTO:-0500
TZNAME:-05
DTSTART:20250101T000000
END:STANDARD
END:VTIMEZONE
BEGIN:VEVENT
DTSTART;TZID=America/Lima:20260421T200000
DTEND;TZID=America/Lima:20260421T210000
DTSTAMP:20260420T163839
CREATED:20260404T134422Z
LAST-MODIFIED:20260404T134422Z
UID:10006353-1776801600-1776805200@puroteatro.pe
SUMMARY:Kortas Martes de Abril
DESCRIPTION:Cuatro obras de 15 minutos en una sola noche.\nTeatro breve e intenso. \n🎭 EN EL INICIO\nDos androides recorren el universo con una misión clave para la vida… hasta que uno empieza a cuestionarlo todo. \n🎭 A DIESTRA Y SINIESTRA\nDerecha e izquierda se enfrentan sin filtros en una sátira política tan divertida como provocadora. \n🎭 TAL PARA CUAL\nUna cita de Tinder que empieza incómoda y termina revelando que nada es lo que parece. \n🎭 LA PRINCESA BEACH Y GOWSER\nLa historia no contada detrás del videojuego: lo que realmente ocurría en el castillo.
URL:https://puroteatro.pe/obra-teatral/kortas-martes-de-abril/2026-04-21/
LOCATION:Teatro Barranco\, Av. Grau 701\, Barranco\, Barranco\, Lima\, Peru
CATEGORIES:Teatro
ATTACH;FMTTYPE=image/png:https://puroteatro.pe/wp-content/uploads/2026/04/encabezado-web-13.png
END:VEVENT
BEGIN:VEVENT
DTSTART;TZID=America/Lima:20260428T200000
DTEND;TZID=America/Lima:20260428T210000
DTSTAMP:20260420T163839
CREATED:20260404T134422Z
LAST-MODIFIED:20260404T134422Z
UID:10006354-1777406400-1777410000@puroteatro.pe
SUMMARY:Kortas Martes de Abril
DESCRIPTION:Cuatro obras de 15 minutos en una sola noche.\nTeatro breve e intenso. \n🎭 EN EL INICIO\nDos androides recorren el universo con una misión clave para la vida… hasta que uno empieza a cuestionarlo todo. \n🎭 A DIESTRA Y SINIESTRA\nDerecha e izquierda se enfrentan sin filtros en una sátira política tan divertida como provocadora. \n🎭 TAL PARA CUAL\nUna cita de Tinder que empieza incómoda y termina revelando que nada es lo que parece. \n🎭 LA PRINCESA BEACH Y GOWSER\nLa historia no contada detrás del videojuego: lo que realmente ocurría en el castillo.
URL:https://puroteatro.pe/obra-teatral/kortas-martes-de-abril/2026-04-28/
LOCATION:Teatro Barranco\, Av. Grau 701\, Barranco\, Barranco\, Lima\, Peru
CATEGORIES:Teatro
ATTACH;FMTTYPE=image/png:https://puroteatro.pe/wp-content/uploads/2026/04/encabezado-web-13.png
END:VEVENT
END:VCALENDAR