BEGIN:VCALENDAR
VERSION:2.0
PRODID:-//Puro Teatro - ECPv6.15.20//NONSGML v1.0//EN
CALSCALE:GREGORIAN
METHOD:PUBLISH
X-WR-CALNAME:Puro Teatro
X-ORIGINAL-URL:https://puroteatro.pe
X-WR-CALDESC:Eventos para Puro Teatro
REFRESH-INTERVAL;VALUE=DURATION:PT1H
X-Robots-Tag:noindex
X-PUBLISHED-TTL:PT1H
BEGIN:VTIMEZONE
TZID:America/Lima
BEGIN:STANDARD
TZOFFSETFROM:-0500
TZOFFSETTO:-0500
TZNAME:-05
DTSTART:20250101T000000
END:STANDARD
END:VTIMEZONE
BEGIN:VEVENT
DTSTART;TZID=America/Lima:20261023T180000
DTEND;TZID=America/Lima:20261023T190000
DTSTAMP:20260423T052501
CREATED:20260323T021538Z
LAST-MODIFIED:20260325T154116Z
UID:10006230-1792778400-1792782000@puroteatro.pe
SUMMARY:Por mis Zarzuelas
DESCRIPTION:UN ESPECTACULO MUSICAL SOBRE LA ZARZUELA que combina las mas representativas melodias del genero\, con una historia real y vigente.
URL:https://puroteatro.pe/obra-teatral/por-mis-zarzuelas/2026-10-23/1/
LOCATION:Teatro Ricardo Roca Rey (AAA)\, Jirón Ica 323 Cercado de Lima\, Cercado de Lima\, Lima\, Peru
CATEGORIES:Musicales
ATTACH;FMTTYPE=image/jpeg:https://puroteatro.pe/wp-content/uploads/2026/03/encabezado-web-44-1.jpg
END:VEVENT
BEGIN:VEVENT
DTSTART;TZID=America/Lima:20261023T200000
DTEND;TZID=America/Lima:20261023T210000
DTSTAMP:20260423T052501
CREATED:20260323T021538Z
LAST-MODIFIED:20260325T154116Z
UID:10006220-1792785600-1792789200@puroteatro.pe
SUMMARY:Por mis Zarzuelas
DESCRIPTION:UN ESPECTACULO MUSICAL SOBRE LA ZARZUELA que combina las mas representativas melodias del genero\, con una historia real y vigente.
URL:https://puroteatro.pe/obra-teatral/por-mis-zarzuelas/2026-10-23/2/
LOCATION:Teatro Ricardo Roca Rey (AAA)\, Jirón Ica 323 Cercado de Lima\, Cercado de Lima\, Lima\, Peru
CATEGORIES:Musicales
ATTACH;FMTTYPE=image/jpeg:https://puroteatro.pe/wp-content/uploads/2026/03/encabezado-web-44-1.jpg
END:VEVENT
BEGIN:VEVENT
DTSTART;TZID=America/Lima:20261024T200000
DTEND;TZID=America/Lima:20261024T210000
DTSTAMP:20260423T052501
CREATED:20260323T021538Z
LAST-MODIFIED:20260325T154116Z
UID:10006221-1792872000-1792875600@puroteatro.pe
SUMMARY:Por mis Zarzuelas
DESCRIPTION:UN ESPECTACULO MUSICAL SOBRE LA ZARZUELA que combina las mas representativas melodias del genero\, con una historia real y vigente.
URL:https://puroteatro.pe/obra-teatral/por-mis-zarzuelas/2026-10-24/
LOCATION:Teatro Ricardo Roca Rey (AAA)\, Jirón Ica 323 Cercado de Lima\, Cercado de Lima\, Lima\, Peru
CATEGORIES:Musicales
ATTACH;FMTTYPE=image/jpeg:https://puroteatro.pe/wp-content/uploads/2026/03/encabezado-web-44-1.jpg
END:VEVENT
BEGIN:VEVENT
DTSTART;TZID=America/Lima:20261025T200000
DTEND;TZID=America/Lima:20261025T210000
DTSTAMP:20260423T052501
CREATED:20260323T021538Z
LAST-MODIFIED:20260325T154116Z
UID:10006222-1792958400-1792962000@puroteatro.pe
SUMMARY:Por mis Zarzuelas
DESCRIPTION:UN ESPECTACULO MUSICAL SOBRE LA ZARZUELA que combina las mas representativas melodias del genero\, con una historia real y vigente.
URL:https://puroteatro.pe/obra-teatral/por-mis-zarzuelas/2026-10-25/
LOCATION:Teatro Ricardo Roca Rey (AAA)\, Jirón Ica 323 Cercado de Lima\, Cercado de Lima\, Lima\, Peru
CATEGORIES:Musicales
ATTACH;FMTTYPE=image/jpeg:https://puroteatro.pe/wp-content/uploads/2026/03/encabezado-web-44-1.jpg
END:VEVENT
END:VCALENDAR