BEGIN:VCALENDAR
VERSION:2.0
PRODID:-//Puro Teatro - ECPv6.15.20//NONSGML v1.0//EN
CALSCALE:GREGORIAN
METHOD:PUBLISH
X-WR-CALNAME:Puro Teatro
X-ORIGINAL-URL:https://puroteatro.pe
X-WR-CALDESC:Eventos para Puro Teatro
REFRESH-INTERVAL;VALUE=DURATION:PT1H
X-Robots-Tag:noindex
X-PUBLISHED-TTL:PT1H
BEGIN:VTIMEZONE
TZID:America/Lima
BEGIN:STANDARD
TZOFFSETFROM:-0500
TZOFFSETTO:-0500
TZNAME:-05
DTSTART:20250101T000000
END:STANDARD
END:VTIMEZONE
BEGIN:VEVENT
DTSTART;TZID=America/Lima:20260425T160000
DTEND;TZID=America/Lima:20260425T170000
DTSTAMP:20260424T075420
CREATED:20260322T150400Z
LAST-MODIFIED:20260322T150400Z
UID:10006190-1777132800-1777136400@puroteatro.pe
SUMMARY:Iris y Flofló: Una aventura ecológica para toda la familia
DESCRIPTION:IRIS Y FLOFLO: ¡Una aventura ecológica para toda la familia! \nTras su estreno en Colombia\, en el 25° encuentro de teatro comunitario\, llega\, por 2 funciones\, esta aventura teatral llena de imaginación\, títeres\, máscaras y música en vivo.
URL:https://puroteatro.pe/obra-teatral/iris-y-floflo-una-aventura-ecologica-para-toda-la-familia/2026-04-25/
LOCATION:Nuevo Teatro Julieta\, Pasaje Porta 132 - Miraflores\, Miraflores\, LIMA\, Peru
CATEGORIES:Teatro Infantil
ATTACH;FMTTYPE=image/jpeg:https://puroteatro.pe/wp-content/uploads/2026/03/encabezado-web-39-1.jpg
END:VEVENT
BEGIN:VEVENT
DTSTART;TZID=America/Lima:20260426T160000
DTEND;TZID=America/Lima:20260426T170000
DTSTAMP:20260424T075420
CREATED:20260322T150400Z
LAST-MODIFIED:20260322T150400Z
UID:10006191-1777219200-1777222800@puroteatro.pe
SUMMARY:Iris y Flofló: Una aventura ecológica para toda la familia
DESCRIPTION:IRIS Y FLOFLO: ¡Una aventura ecológica para toda la familia! \nTras su estreno en Colombia\, en el 25° encuentro de teatro comunitario\, llega\, por 2 funciones\, esta aventura teatral llena de imaginación\, títeres\, máscaras y música en vivo.
URL:https://puroteatro.pe/obra-teatral/iris-y-floflo-una-aventura-ecologica-para-toda-la-familia/2026-04-26/
LOCATION:Nuevo Teatro Julieta\, Pasaje Porta 132 - Miraflores\, Miraflores\, LIMA\, Peru
CATEGORIES:Teatro Infantil
ATTACH;FMTTYPE=image/jpeg:https://puroteatro.pe/wp-content/uploads/2026/03/encabezado-web-39-1.jpg
END:VEVENT
END:VCALENDAR