BEGIN:VCALENDAR
VERSION:2.0
PRODID:-//Puro Teatro - ECPv6.15.20//NONSGML v1.0//EN
CALSCALE:GREGORIAN
METHOD:PUBLISH
X-WR-CALNAME:Puro Teatro
X-ORIGINAL-URL:https://puroteatro.pe
X-WR-CALDESC:Eventos para Puro Teatro
REFRESH-INTERVAL;VALUE=DURATION:PT1H
X-Robots-Tag:noindex
X-PUBLISHED-TTL:PT1H
BEGIN:VTIMEZONE
TZID:America/Lima
BEGIN:STANDARD
TZOFFSETFROM:-0500
TZOFFSETTO:-0500
TZNAME:-05
DTSTART:20250101T000000
END:STANDARD
END:VTIMEZONE
BEGIN:VEVENT
DTSTART;TZID=America/Lima:20260517T200000
DTEND;TZID=America/Lima:20260517T210000
DTSTAMP:20260423T040716
CREATED:20260322T140244Z
LAST-MODIFIED:20260322T140244Z
UID:10006153-1779048000-1779051600@puroteatro.pe
SUMMARY:Mariposas Enjauladas
DESCRIPTION:12 jóvenes que acaban de dejar la niñez\, empieza su metamorfosis juntos con la evolución de la tecnología y las industrias. Unos fueron educados\, otros no tuvieron la dicha. Unos recibieron atención\, otros ni la inhalaron. Lo cierto\, es que todos tendrán que tomar decisiones más allá de los valores. \n  \nLas mariposas\, así como los seres humanos\, nacen para volar alto… las que conocerás están saliendo de sus capullos\, pero… \n  \n¿Podrán volar?
URL:https://puroteatro.pe/obra-teatral/mariposas-enjauladas/2026-05-17/
LOCATION:Teatro Juanita Tarnawiecki\, Jirón Sáenz Peña 107\, Barranco\, Barranco\, Lima\, Peru
CATEGORIES:Teatro
ATTACH;FMTTYPE=image/jpeg:https://puroteatro.pe/wp-content/uploads/2026/03/encabezado-web-31-1.jpg
END:VEVENT
BEGIN:VEVENT
DTSTART;TZID=America/Lima:20260524T200000
DTEND;TZID=America/Lima:20260524T210000
DTSTAMP:20260423T040716
CREATED:20260322T140244Z
LAST-MODIFIED:20260322T140244Z
UID:10006154-1779652800-1779656400@puroteatro.pe
SUMMARY:Mariposas Enjauladas
DESCRIPTION:12 jóvenes que acaban de dejar la niñez\, empieza su metamorfosis juntos con la evolución de la tecnología y las industrias. Unos fueron educados\, otros no tuvieron la dicha. Unos recibieron atención\, otros ni la inhalaron. Lo cierto\, es que todos tendrán que tomar decisiones más allá de los valores. \n  \nLas mariposas\, así como los seres humanos\, nacen para volar alto… las que conocerás están saliendo de sus capullos\, pero… \n  \n¿Podrán volar?
URL:https://puroteatro.pe/obra-teatral/mariposas-enjauladas/2026-05-24/
LOCATION:Teatro Juanita Tarnawiecki\, Jirón Sáenz Peña 107\, Barranco\, Barranco\, Lima\, Peru
CATEGORIES:Teatro
ATTACH;FMTTYPE=image/jpeg:https://puroteatro.pe/wp-content/uploads/2026/03/encabezado-web-31-1.jpg
END:VEVENT
END:VCALENDAR