BEGIN:VCALENDAR
VERSION:2.0
PRODID:-//Puro Teatro - ECPv6.15.20//NONSGML v1.0//EN
CALSCALE:GREGORIAN
METHOD:PUBLISH
X-WR-CALNAME:Puro Teatro
X-ORIGINAL-URL:https://puroteatro.pe
X-WR-CALDESC:Eventos para Puro Teatro
REFRESH-INTERVAL;VALUE=DURATION:PT1H
X-Robots-Tag:noindex
X-PUBLISHED-TTL:PT1H
BEGIN:VTIMEZONE
TZID:America/Lima
BEGIN:STANDARD
TZOFFSETFROM:-0500
TZOFFSETTO:-0500
TZNAME:-05
DTSTART:20250101T000000
END:STANDARD
END:VTIMEZONE
BEGIN:VEVENT
DTSTART;TZID=America/Lima:20260501T200000
DTEND;TZID=America/Lima:20260501T210000
DTSTAMP:20260423T042343
CREATED:20260309T153239Z
LAST-MODIFIED:20260309T153239Z
UID:10005922-1777665600-1777669200@puroteatro.pe
SUMMARY:Vargas Llosa en Escena
DESCRIPTION:¿Sabías que para Mario Vargas Llosa el teatro era su más grande pasión? Él escribió 10 obras de teatro en total: dramáticas\, vibrantes\, eróticas\, desconcertantes. Él mismo subió al escenario para actuar sus personajes. Este espectáculo teje algunas de esas historias de nuestro Nobel de Literatura. Es un asomo a su dramaturgia. La mejor manera de conocer e impactarse con su teatro. 13 personajes\, 10 escenas de su universo teatral en un espectáculo con música en vivo. Odiseo\, Penélope\, Sherezade\, el rey Sharigar\, el duque Ugolino y la bella Aminta logran alta tensión dramática en escena\, gracias a la reescritura teatral de MVLl. Pero también aparecen La Chunga\, el inconquistable Josefino\, el crítico Zanelli\, el desolado Rubén\, Chispas Bellatín\, la misteriosa Raquel. Y una aparición sorpresa que completa este tributo al genio escénico de nuestro nobel.
URL:https://puroteatro.pe/obra-teatral/vargas-llosa-en-escena-2/2026-05-01/
LOCATION:Teatro Auditorio Mario Vargas Llosa\, Avenida De La Poesía\, San Borja\, San Borja\, Lima\, Peru
CATEGORIES:Teatro
ATTACH;FMTTYPE=image/png:https://puroteatro.pe/wp-content/uploads/2026/03/encabezado-web-37.png
END:VEVENT
BEGIN:VEVENT
DTSTART;TZID=America/Lima:20260502T200000
DTEND;TZID=America/Lima:20260502T210000
DTSTAMP:20260423T042343
CREATED:20260309T153239Z
LAST-MODIFIED:20260309T153239Z
UID:10005923-1777752000-1777755600@puroteatro.pe
SUMMARY:Vargas Llosa en Escena
DESCRIPTION:¿Sabías que para Mario Vargas Llosa el teatro era su más grande pasión? Él escribió 10 obras de teatro en total: dramáticas\, vibrantes\, eróticas\, desconcertantes. Él mismo subió al escenario para actuar sus personajes. Este espectáculo teje algunas de esas historias de nuestro Nobel de Literatura. Es un asomo a su dramaturgia. La mejor manera de conocer e impactarse con su teatro. 13 personajes\, 10 escenas de su universo teatral en un espectáculo con música en vivo. Odiseo\, Penélope\, Sherezade\, el rey Sharigar\, el duque Ugolino y la bella Aminta logran alta tensión dramática en escena\, gracias a la reescritura teatral de MVLl. Pero también aparecen La Chunga\, el inconquistable Josefino\, el crítico Zanelli\, el desolado Rubén\, Chispas Bellatín\, la misteriosa Raquel. Y una aparición sorpresa que completa este tributo al genio escénico de nuestro nobel.
URL:https://puroteatro.pe/obra-teatral/vargas-llosa-en-escena-2/2026-05-02/
LOCATION:Teatro Auditorio Mario Vargas Llosa\, Avenida De La Poesía\, San Borja\, San Borja\, Lima\, Peru
CATEGORIES:Teatro
ATTACH;FMTTYPE=image/png:https://puroteatro.pe/wp-content/uploads/2026/03/encabezado-web-37.png
END:VEVENT
BEGIN:VEVENT
DTSTART;TZID=America/Lima:20260503T200000
DTEND;TZID=America/Lima:20260503T210000
DTSTAMP:20260423T042343
CREATED:20260309T153239Z
LAST-MODIFIED:20260309T153239Z
UID:10005924-1777838400-1777842000@puroteatro.pe
SUMMARY:Vargas Llosa en Escena
DESCRIPTION:¿Sabías que para Mario Vargas Llosa el teatro era su más grande pasión? Él escribió 10 obras de teatro en total: dramáticas\, vibrantes\, eróticas\, desconcertantes. Él mismo subió al escenario para actuar sus personajes. Este espectáculo teje algunas de esas historias de nuestro Nobel de Literatura. Es un asomo a su dramaturgia. La mejor manera de conocer e impactarse con su teatro. 13 personajes\, 10 escenas de su universo teatral en un espectáculo con música en vivo. Odiseo\, Penélope\, Sherezade\, el rey Sharigar\, el duque Ugolino y la bella Aminta logran alta tensión dramática en escena\, gracias a la reescritura teatral de MVLl. Pero también aparecen La Chunga\, el inconquistable Josefino\, el crítico Zanelli\, el desolado Rubén\, Chispas Bellatín\, la misteriosa Raquel. Y una aparición sorpresa que completa este tributo al genio escénico de nuestro nobel.
URL:https://puroteatro.pe/obra-teatral/vargas-llosa-en-escena-2/2026-05-03/
LOCATION:Teatro Auditorio Mario Vargas Llosa\, Avenida De La Poesía\, San Borja\, San Borja\, Lima\, Peru
CATEGORIES:Teatro
ATTACH;FMTTYPE=image/png:https://puroteatro.pe/wp-content/uploads/2026/03/encabezado-web-37.png
END:VEVENT
BEGIN:VEVENT
DTSTART;TZID=America/Lima:20260508T200000
DTEND;TZID=America/Lima:20260508T210000
DTSTAMP:20260423T042343
CREATED:20260309T153239Z
LAST-MODIFIED:20260309T153239Z
UID:10005925-1778270400-1778274000@puroteatro.pe
SUMMARY:Vargas Llosa en Escena
DESCRIPTION:¿Sabías que para Mario Vargas Llosa el teatro era su más grande pasión? Él escribió 10 obras de teatro en total: dramáticas\, vibrantes\, eróticas\, desconcertantes. Él mismo subió al escenario para actuar sus personajes. Este espectáculo teje algunas de esas historias de nuestro Nobel de Literatura. Es un asomo a su dramaturgia. La mejor manera de conocer e impactarse con su teatro. 13 personajes\, 10 escenas de su universo teatral en un espectáculo con música en vivo. Odiseo\, Penélope\, Sherezade\, el rey Sharigar\, el duque Ugolino y la bella Aminta logran alta tensión dramática en escena\, gracias a la reescritura teatral de MVLl. Pero también aparecen La Chunga\, el inconquistable Josefino\, el crítico Zanelli\, el desolado Rubén\, Chispas Bellatín\, la misteriosa Raquel. Y una aparición sorpresa que completa este tributo al genio escénico de nuestro nobel.
URL:https://puroteatro.pe/obra-teatral/vargas-llosa-en-escena-2/2026-05-08/
LOCATION:Teatro Auditorio Mario Vargas Llosa\, Avenida De La Poesía\, San Borja\, San Borja\, Lima\, Peru
CATEGORIES:Teatro
ATTACH;FMTTYPE=image/png:https://puroteatro.pe/wp-content/uploads/2026/03/encabezado-web-37.png
END:VEVENT
BEGIN:VEVENT
DTSTART;TZID=America/Lima:20260509T200000
DTEND;TZID=America/Lima:20260509T210000
DTSTAMP:20260423T042343
CREATED:20260309T153239Z
LAST-MODIFIED:20260309T153239Z
UID:10005926-1778356800-1778360400@puroteatro.pe
SUMMARY:Vargas Llosa en Escena
DESCRIPTION:¿Sabías que para Mario Vargas Llosa el teatro era su más grande pasión? Él escribió 10 obras de teatro en total: dramáticas\, vibrantes\, eróticas\, desconcertantes. Él mismo subió al escenario para actuar sus personajes. Este espectáculo teje algunas de esas historias de nuestro Nobel de Literatura. Es un asomo a su dramaturgia. La mejor manera de conocer e impactarse con su teatro. 13 personajes\, 10 escenas de su universo teatral en un espectáculo con música en vivo. Odiseo\, Penélope\, Sherezade\, el rey Sharigar\, el duque Ugolino y la bella Aminta logran alta tensión dramática en escena\, gracias a la reescritura teatral de MVLl. Pero también aparecen La Chunga\, el inconquistable Josefino\, el crítico Zanelli\, el desolado Rubén\, Chispas Bellatín\, la misteriosa Raquel. Y una aparición sorpresa que completa este tributo al genio escénico de nuestro nobel.
URL:https://puroteatro.pe/obra-teatral/vargas-llosa-en-escena-2/2026-05-09/
LOCATION:Teatro Auditorio Mario Vargas Llosa\, Avenida De La Poesía\, San Borja\, San Borja\, Lima\, Peru
CATEGORIES:Teatro
ATTACH;FMTTYPE=image/png:https://puroteatro.pe/wp-content/uploads/2026/03/encabezado-web-37.png
END:VEVENT
BEGIN:VEVENT
DTSTART;TZID=America/Lima:20260510T190000
DTEND;TZID=America/Lima:20260510T200000
DTSTAMP:20260423T042343
CREATED:20260309T153239Z
LAST-MODIFIED:20260309T153239Z
UID:10005927-1778439600-1778443200@puroteatro.pe
SUMMARY:Vargas Llosa en Escena
DESCRIPTION:¿Sabías que para Mario Vargas Llosa el teatro era su más grande pasión? Él escribió 10 obras de teatro en total: dramáticas\, vibrantes\, eróticas\, desconcertantes. Él mismo subió al escenario para actuar sus personajes. Este espectáculo teje algunas de esas historias de nuestro Nobel de Literatura. Es un asomo a su dramaturgia. La mejor manera de conocer e impactarse con su teatro. 13 personajes\, 10 escenas de su universo teatral en un espectáculo con música en vivo. Odiseo\, Penélope\, Sherezade\, el rey Sharigar\, el duque Ugolino y la bella Aminta logran alta tensión dramática en escena\, gracias a la reescritura teatral de MVLl. Pero también aparecen La Chunga\, el inconquistable Josefino\, el crítico Zanelli\, el desolado Rubén\, Chispas Bellatín\, la misteriosa Raquel. Y una aparición sorpresa que completa este tributo al genio escénico de nuestro nobel.
URL:https://puroteatro.pe/obra-teatral/vargas-llosa-en-escena-2/2026-05-10/
LOCATION:Teatro Auditorio Mario Vargas Llosa\, Avenida De La Poesía\, San Borja\, San Borja\, Lima\, Peru
CATEGORIES:Teatro
ATTACH;FMTTYPE=image/png:https://puroteatro.pe/wp-content/uploads/2026/03/encabezado-web-37.png
END:VEVENT
END:VCALENDAR