BEGIN:VCALENDAR
VERSION:2.0
PRODID:-//Puro Teatro - ECPv6.15.20//NONSGML v1.0//EN
CALSCALE:GREGORIAN
METHOD:PUBLISH
X-WR-CALNAME:Puro Teatro
X-ORIGINAL-URL:https://puroteatro.pe
X-WR-CALDESC:Eventos para Puro Teatro
REFRESH-INTERVAL;VALUE=DURATION:PT1H
X-Robots-Tag:noindex
X-PUBLISHED-TTL:PT1H
BEGIN:VTIMEZONE
TZID:America/Lima
BEGIN:STANDARD
TZOFFSETFROM:-0500
TZOFFSETTO:-0500
TZNAME:-05
DTSTART:20250101T000000
END:STANDARD
END:VTIMEZONE
BEGIN:VEVENT
DTSTART;TZID=America/Lima:20260502T160000
DTEND;TZID=America/Lima:20260502T170000
DTSTAMP:20260424T152518
CREATED:20260302T172926Z
LAST-MODIFIED:20260302T172926Z
UID:10005861-1777737600-1777741200@puroteatro.pe
SUMMARY:Cenicienta. El musical
DESCRIPTION:
URL:https://puroteatro.pe/obra-teatral/cenicienta-el-musical/2026-05-02/1/
LOCATION:Sala Alzedo del Teatro Segura\, Teatro Segura\, Jirón Huancavelica\, Lima\, Perú\, Lima\, Lima\, Peru
CATEGORIES:Musicales
ATTACH;FMTTYPE=image/jpeg:https://puroteatro.pe/wp-content/uploads/2026/03/encabezado-web-31.jpg
END:VEVENT
BEGIN:VEVENT
DTSTART;TZID=America/Lima:20260502T190000
DTEND;TZID=America/Lima:20260502T200000
DTSTAMP:20260424T152518
CREATED:20260302T172926Z
LAST-MODIFIED:20260302T172926Z
UID:10005862-1777748400-1777752000@puroteatro.pe
SUMMARY:Cenicienta. El musical
DESCRIPTION:
URL:https://puroteatro.pe/obra-teatral/cenicienta-el-musical/2026-05-02/2/
LOCATION:Sala Alzedo del Teatro Segura\, Teatro Segura\, Jirón Huancavelica\, Lima\, Perú\, Lima\, Lima\, Peru
CATEGORIES:Musicales
ATTACH;FMTTYPE=image/jpeg:https://puroteatro.pe/wp-content/uploads/2026/03/encabezado-web-31.jpg
END:VEVENT
BEGIN:VEVENT
DTSTART;TZID=America/Lima:20260503T160000
DTEND;TZID=America/Lima:20260503T170000
DTSTAMP:20260424T152518
CREATED:20260302T172926Z
LAST-MODIFIED:20260302T172926Z
UID:10005863-1777824000-1777827600@puroteatro.pe
SUMMARY:Cenicienta. El musical
DESCRIPTION:
URL:https://puroteatro.pe/obra-teatral/cenicienta-el-musical/2026-05-03/1/
LOCATION:Sala Alzedo del Teatro Segura\, Teatro Segura\, Jirón Huancavelica\, Lima\, Perú\, Lima\, Lima\, Peru
CATEGORIES:Musicales
ATTACH;FMTTYPE=image/jpeg:https://puroteatro.pe/wp-content/uploads/2026/03/encabezado-web-31.jpg
END:VEVENT
BEGIN:VEVENT
DTSTART;TZID=America/Lima:20260503T190000
DTEND;TZID=America/Lima:20260503T200000
DTSTAMP:20260424T152518
CREATED:20260302T172926Z
LAST-MODIFIED:20260302T172926Z
UID:10005864-1777834800-1777838400@puroteatro.pe
SUMMARY:Cenicienta. El musical
DESCRIPTION:
URL:https://puroteatro.pe/obra-teatral/cenicienta-el-musical/2026-05-03/2/
LOCATION:Sala Alzedo del Teatro Segura\, Teatro Segura\, Jirón Huancavelica\, Lima\, Perú\, Lima\, Lima\, Peru
CATEGORIES:Musicales
ATTACH;FMTTYPE=image/jpeg:https://puroteatro.pe/wp-content/uploads/2026/03/encabezado-web-31.jpg
END:VEVENT
BEGIN:VEVENT
DTSTART;TZID=America/Lima:20260508T200000
DTEND;TZID=America/Lima:20260508T210000
DTSTAMP:20260424T152518
CREATED:20260302T172926Z
LAST-MODIFIED:20260302T172926Z
UID:10005865-1778270400-1778274000@puroteatro.pe
SUMMARY:Cenicienta. El musical
DESCRIPTION:
URL:https://puroteatro.pe/obra-teatral/cenicienta-el-musical/2026-05-08/
LOCATION:Sala Alzedo del Teatro Segura\, Teatro Segura\, Jirón Huancavelica\, Lima\, Perú\, Lima\, Lima\, Peru
CATEGORIES:Musicales
ATTACH;FMTTYPE=image/jpeg:https://puroteatro.pe/wp-content/uploads/2026/03/encabezado-web-31.jpg
END:VEVENT
BEGIN:VEVENT
DTSTART;TZID=America/Lima:20260509T160000
DTEND;TZID=America/Lima:20260509T170000
DTSTAMP:20260424T152518
CREATED:20260302T172926Z
LAST-MODIFIED:20260302T172926Z
UID:10005866-1778342400-1778346000@puroteatro.pe
SUMMARY:Cenicienta. El musical
DESCRIPTION:
URL:https://puroteatro.pe/obra-teatral/cenicienta-el-musical/2026-05-09/1/
LOCATION:Sala Alzedo del Teatro Segura\, Teatro Segura\, Jirón Huancavelica\, Lima\, Perú\, Lima\, Lima\, Peru
CATEGORIES:Musicales
ATTACH;FMTTYPE=image/jpeg:https://puroteatro.pe/wp-content/uploads/2026/03/encabezado-web-31.jpg
END:VEVENT
BEGIN:VEVENT
DTSTART;TZID=America/Lima:20260509T190000
DTEND;TZID=America/Lima:20260509T200000
DTSTAMP:20260424T152518
CREATED:20260302T172926Z
LAST-MODIFIED:20260302T172926Z
UID:10005867-1778353200-1778356800@puroteatro.pe
SUMMARY:Cenicienta. El musical
DESCRIPTION:
URL:https://puroteatro.pe/obra-teatral/cenicienta-el-musical/2026-05-09/2/
LOCATION:Sala Alzedo del Teatro Segura\, Teatro Segura\, Jirón Huancavelica\, Lima\, Perú\, Lima\, Lima\, Peru
CATEGORIES:Musicales
ATTACH;FMTTYPE=image/jpeg:https://puroteatro.pe/wp-content/uploads/2026/03/encabezado-web-31.jpg
END:VEVENT
BEGIN:VEVENT
DTSTART;TZID=America/Lima:20260510T160000
DTEND;TZID=America/Lima:20260510T170000
DTSTAMP:20260424T152518
CREATED:20260302T172926Z
LAST-MODIFIED:20260302T172926Z
UID:10005868-1778428800-1778432400@puroteatro.pe
SUMMARY:Cenicienta. El musical
DESCRIPTION:
URL:https://puroteatro.pe/obra-teatral/cenicienta-el-musical/2026-05-10/1/
LOCATION:Sala Alzedo del Teatro Segura\, Teatro Segura\, Jirón Huancavelica\, Lima\, Perú\, Lima\, Lima\, Peru
CATEGORIES:Musicales
ATTACH;FMTTYPE=image/jpeg:https://puroteatro.pe/wp-content/uploads/2026/03/encabezado-web-31.jpg
END:VEVENT
BEGIN:VEVENT
DTSTART;TZID=America/Lima:20260510T190000
DTEND;TZID=America/Lima:20260510T200000
DTSTAMP:20260424T152518
CREATED:20260302T172926Z
LAST-MODIFIED:20260302T172926Z
UID:10005869-1778439600-1778443200@puroteatro.pe
SUMMARY:Cenicienta. El musical
DESCRIPTION:
URL:https://puroteatro.pe/obra-teatral/cenicienta-el-musical/2026-05-10/2/
LOCATION:Sala Alzedo del Teatro Segura\, Teatro Segura\, Jirón Huancavelica\, Lima\, Perú\, Lima\, Lima\, Peru
CATEGORIES:Musicales
ATTACH;FMTTYPE=image/jpeg:https://puroteatro.pe/wp-content/uploads/2026/03/encabezado-web-31.jpg
END:VEVENT
END:VCALENDAR