BEGIN:VCALENDAR
VERSION:2.0
PRODID:-//Puro Teatro - ECPv6.15.20//NONSGML v1.0//EN
CALSCALE:GREGORIAN
METHOD:PUBLISH
X-WR-CALNAME:Puro Teatro
X-ORIGINAL-URL:https://puroteatro.pe
X-WR-CALDESC:Eventos para Puro Teatro
REFRESH-INTERVAL;VALUE=DURATION:PT1H
X-Robots-Tag:noindex
X-PUBLISHED-TTL:PT1H
BEGIN:VTIMEZONE
TZID:America/Lima
BEGIN:STANDARD
TZOFFSETFROM:-0500
TZOFFSETTO:-0500
TZNAME:-05
DTSTART:20250101T000000
END:STANDARD
END:VTIMEZONE
BEGIN:VEVENT
DTSTART;TZID=America/Lima:20260425T200000
DTEND;TZID=America/Lima:20260425T210000
DTSTAMP:20260425T053251
CREATED:20260223T160454Z
LAST-MODIFIED:20260223T160454Z
UID:10005606-1777147200-1777150800@puroteatro.pe
SUMMARY:Respirar
DESCRIPTION:Luciana llega de sorpresa al centro de esquí de Vail\, Colorado\, a encontrarse con su hermano mayor Darío\, quién dejó el Perú hace 15 años sin dejar rastro. El reencuentro está atravesado por el silencio debido a las razones de su partida y de la ruptura de lazos familiares (hermana\, padre y madre). Luciana viene a buscarlo porque su madre no se encuentra bien y por una necesidad personal de entender los verdaderos motivos de su partida. Entre las tensiones que vuelven a surgir\, van revelando verdades y mentiras\, familiares y personales. La reconciliación que Luciana busca queda en la fría distancia.
URL:https://puroteatro.pe/obra-teatral/respirar/2026-04-25/
LOCATION:Sala Quilla\, Av. Francisco Bolognesi\, 397\, Barranco\, Lima\, Lima\, Barranco\, Peru
CATEGORIES:Teatro
ATTACH;FMTTYPE=image/jpeg:https://puroteatro.pe/wp-content/uploads/2026/02/encabezado-web-4-1.jpg
END:VEVENT
BEGIN:VEVENT
DTSTART;TZID=America/Lima:20260426T190000
DTEND;TZID=America/Lima:20260426T200000
DTSTAMP:20260425T053251
CREATED:20260223T160454Z
LAST-MODIFIED:20260223T160454Z
UID:10005607-1777230000-1777233600@puroteatro.pe
SUMMARY:Respirar
DESCRIPTION:Luciana llega de sorpresa al centro de esquí de Vail\, Colorado\, a encontrarse con su hermano mayor Darío\, quién dejó el Perú hace 15 años sin dejar rastro. El reencuentro está atravesado por el silencio debido a las razones de su partida y de la ruptura de lazos familiares (hermana\, padre y madre). Luciana viene a buscarlo porque su madre no se encuentra bien y por una necesidad personal de entender los verdaderos motivos de su partida. Entre las tensiones que vuelven a surgir\, van revelando verdades y mentiras\, familiares y personales. La reconciliación que Luciana busca queda en la fría distancia.
URL:https://puroteatro.pe/obra-teatral/respirar/2026-04-26/
LOCATION:Sala Quilla\, Av. Francisco Bolognesi\, 397\, Barranco\, Lima\, Lima\, Barranco\, Peru
CATEGORIES:Teatro
ATTACH;FMTTYPE=image/jpeg:https://puroteatro.pe/wp-content/uploads/2026/02/encabezado-web-4-1.jpg
END:VEVENT
END:VCALENDAR