BEGIN:VCALENDAR
VERSION:2.0
PRODID:-//Puro Teatro - ECPv6.15.20//NONSGML v1.0//EN
CALSCALE:GREGORIAN
METHOD:PUBLISH
X-WR-CALNAME:Puro Teatro
X-ORIGINAL-URL:https://puroteatro.pe
X-WR-CALDESC:Eventos para Puro Teatro
REFRESH-INTERVAL;VALUE=DURATION:PT1H
X-Robots-Tag:noindex
X-PUBLISHED-TTL:PT1H
BEGIN:VTIMEZONE
TZID:America/Lima
BEGIN:STANDARD
TZOFFSETFROM:-0500
TZOFFSETTO:-0500
TZNAME:-05
DTSTART:20250101T000000
END:STANDARD
END:VTIMEZONE
BEGIN:VEVENT
DTSTART;TZID=America/Lima:20260502T200000
DTEND;TZID=America/Lima:20260502T210000
DTSTAMP:20260425T085010
CREATED:20260209T170727Z
LAST-MODIFIED:20260209T170754Z
UID:10005289-1777752000-1777755600@puroteatro.pe
SUMMARY:PROST\, por el amor
DESCRIPTION:«Dos amigos de muchos años se enamoran\, pero la vida encontrará mil razones para mantenelos separados. \nProst por el amor es una historia de amistad\, complicidad\, y desamor\, pero sobre todo una prueba que los amores que matan\, nunca mueren». \n 
URL:https://puroteatro.pe/obra-teatral/prost-por-el-amor/2026-05-02/
LOCATION:Asociación Cultural Campo Abierto\, General Recavarren 560\, Miraflores\, Lima\, Lima\, Lima\, Peru
CATEGORIES:Teatro
ATTACH;FMTTYPE=image/jpeg:https://puroteatro.pe/wp-content/uploads/2026/02/Diseno-sin-titulo-26.jpg
END:VEVENT
BEGIN:VEVENT
DTSTART;TZID=America/Lima:20260503T190000
DTEND;TZID=America/Lima:20260503T200000
DTSTAMP:20260425T085010
CREATED:20260209T170727Z
LAST-MODIFIED:20260209T170754Z
UID:10005290-1777834800-1777838400@puroteatro.pe
SUMMARY:PROST\, por el amor
DESCRIPTION:«Dos amigos de muchos años se enamoran\, pero la vida encontrará mil razones para mantenelos separados. \nProst por el amor es una historia de amistad\, complicidad\, y desamor\, pero sobre todo una prueba que los amores que matan\, nunca mueren». \n 
URL:https://puroteatro.pe/obra-teatral/prost-por-el-amor/2026-05-03/
LOCATION:Asociación Cultural Campo Abierto\, General Recavarren 560\, Miraflores\, Lima\, Lima\, Lima\, Peru
CATEGORIES:Teatro
ATTACH;FMTTYPE=image/jpeg:https://puroteatro.pe/wp-content/uploads/2026/02/Diseno-sin-titulo-26.jpg
END:VEVENT
BEGIN:VEVENT
DTSTART;TZID=America/Lima:20260509T200000
DTEND;TZID=America/Lima:20260509T210000
DTSTAMP:20260425T085010
CREATED:20260209T170727Z
LAST-MODIFIED:20260209T170754Z
UID:10005291-1778356800-1778360400@puroteatro.pe
SUMMARY:PROST\, por el amor
DESCRIPTION:«Dos amigos de muchos años se enamoran\, pero la vida encontrará mil razones para mantenelos separados. \nProst por el amor es una historia de amistad\, complicidad\, y desamor\, pero sobre todo una prueba que los amores que matan\, nunca mueren». \n 
URL:https://puroteatro.pe/obra-teatral/prost-por-el-amor/2026-05-09/
LOCATION:Asociación Cultural Campo Abierto\, General Recavarren 560\, Miraflores\, Lima\, Lima\, Lima\, Peru
CATEGORIES:Teatro
ATTACH;FMTTYPE=image/jpeg:https://puroteatro.pe/wp-content/uploads/2026/02/Diseno-sin-titulo-26.jpg
END:VEVENT
BEGIN:VEVENT
DTSTART;TZID=America/Lima:20260510T190000
DTEND;TZID=America/Lima:20260510T200000
DTSTAMP:20260425T085010
CREATED:20260209T170727Z
LAST-MODIFIED:20260209T170754Z
UID:10005292-1778439600-1778443200@puroteatro.pe
SUMMARY:PROST\, por el amor
DESCRIPTION:«Dos amigos de muchos años se enamoran\, pero la vida encontrará mil razones para mantenelos separados. \nProst por el amor es una historia de amistad\, complicidad\, y desamor\, pero sobre todo una prueba que los amores que matan\, nunca mueren». \n 
URL:https://puroteatro.pe/obra-teatral/prost-por-el-amor/2026-05-10/
LOCATION:Asociación Cultural Campo Abierto\, General Recavarren 560\, Miraflores\, Lima\, Lima\, Lima\, Peru
CATEGORIES:Teatro
ATTACH;FMTTYPE=image/jpeg:https://puroteatro.pe/wp-content/uploads/2026/02/Diseno-sin-titulo-26.jpg
END:VEVENT
BEGIN:VEVENT
DTSTART;TZID=America/Lima:20260516T200000
DTEND;TZID=America/Lima:20260516T210000
DTSTAMP:20260425T085010
CREATED:20260209T170727Z
LAST-MODIFIED:20260209T170754Z
UID:10005293-1778961600-1778965200@puroteatro.pe
SUMMARY:PROST\, por el amor
DESCRIPTION:«Dos amigos de muchos años se enamoran\, pero la vida encontrará mil razones para mantenelos separados. \nProst por el amor es una historia de amistad\, complicidad\, y desamor\, pero sobre todo una prueba que los amores que matan\, nunca mueren». \n 
URL:https://puroteatro.pe/obra-teatral/prost-por-el-amor/2026-05-16/
LOCATION:Asociación Cultural Campo Abierto\, General Recavarren 560\, Miraflores\, Lima\, Lima\, Lima\, Peru
CATEGORIES:Teatro
ATTACH;FMTTYPE=image/jpeg:https://puroteatro.pe/wp-content/uploads/2026/02/Diseno-sin-titulo-26.jpg
END:VEVENT
BEGIN:VEVENT
DTSTART;TZID=America/Lima:20260517T190000
DTEND;TZID=America/Lima:20260517T200000
DTSTAMP:20260425T085010
CREATED:20260209T170727Z
LAST-MODIFIED:20260209T170754Z
UID:10005294-1779044400-1779048000@puroteatro.pe
SUMMARY:PROST\, por el amor
DESCRIPTION:«Dos amigos de muchos años se enamoran\, pero la vida encontrará mil razones para mantenelos separados. \nProst por el amor es una historia de amistad\, complicidad\, y desamor\, pero sobre todo una prueba que los amores que matan\, nunca mueren». \n 
URL:https://puroteatro.pe/obra-teatral/prost-por-el-amor/2026-05-17/
LOCATION:Asociación Cultural Campo Abierto\, General Recavarren 560\, Miraflores\, Lima\, Lima\, Lima\, Peru
CATEGORIES:Teatro
ATTACH;FMTTYPE=image/jpeg:https://puroteatro.pe/wp-content/uploads/2026/02/Diseno-sin-titulo-26.jpg
END:VEVENT
BEGIN:VEVENT
DTSTART;TZID=America/Lima:20260523T200000
DTEND;TZID=America/Lima:20260523T210000
DTSTAMP:20260425T085010
CREATED:20260209T170727Z
LAST-MODIFIED:20260209T170754Z
UID:10005295-1779566400-1779570000@puroteatro.pe
SUMMARY:PROST\, por el amor
DESCRIPTION:«Dos amigos de muchos años se enamoran\, pero la vida encontrará mil razones para mantenelos separados. \nProst por el amor es una historia de amistad\, complicidad\, y desamor\, pero sobre todo una prueba que los amores que matan\, nunca mueren». \n 
URL:https://puroteatro.pe/obra-teatral/prost-por-el-amor/2026-05-23/
LOCATION:Asociación Cultural Campo Abierto\, General Recavarren 560\, Miraflores\, Lima\, Lima\, Lima\, Peru
CATEGORIES:Teatro
ATTACH;FMTTYPE=image/jpeg:https://puroteatro.pe/wp-content/uploads/2026/02/Diseno-sin-titulo-26.jpg
END:VEVENT
BEGIN:VEVENT
DTSTART;TZID=America/Lima:20260524T190000
DTEND;TZID=America/Lima:20260524T200000
DTSTAMP:20260425T085010
CREATED:20260209T170727Z
LAST-MODIFIED:20260209T170754Z
UID:10005296-1779649200-1779652800@puroteatro.pe
SUMMARY:PROST\, por el amor
DESCRIPTION:«Dos amigos de muchos años se enamoran\, pero la vida encontrará mil razones para mantenelos separados. \nProst por el amor es una historia de amistad\, complicidad\, y desamor\, pero sobre todo una prueba que los amores que matan\, nunca mueren». \n 
URL:https://puroteatro.pe/obra-teatral/prost-por-el-amor/2026-05-24/
LOCATION:Asociación Cultural Campo Abierto\, General Recavarren 560\, Miraflores\, Lima\, Lima\, Lima\, Peru
CATEGORIES:Teatro
ATTACH;FMTTYPE=image/jpeg:https://puroteatro.pe/wp-content/uploads/2026/02/Diseno-sin-titulo-26.jpg
END:VEVENT
END:VCALENDAR