BEGIN:VCALENDAR
VERSION:2.0
PRODID:-//Puro Teatro - ECPv6.15.20//NONSGML v1.0//EN
CALSCALE:GREGORIAN
METHOD:PUBLISH
X-WR-CALNAME:Puro Teatro
X-ORIGINAL-URL:https://puroteatro.pe
X-WR-CALDESC:Eventos para Puro Teatro
REFRESH-INTERVAL;VALUE=DURATION:PT1H
X-Robots-Tag:noindex
X-PUBLISHED-TTL:PT1H
BEGIN:VTIMEZONE
TZID:America/Lima
BEGIN:STANDARD
TZOFFSETFROM:-0500
TZOFFSETTO:-0500
TZNAME:-05
DTSTART:20250101T000000
END:STANDARD
END:VTIMEZONE
BEGIN:VEVENT
DTSTART;TZID=America/Lima:20260529T200000
DTEND;TZID=America/Lima:20260529T210000
DTSTAMP:20260423T042343
CREATED:20260209T170110Z
LAST-MODIFIED:20260209T170110Z
UID:10005285-1780084800-1780088400@puroteatro.pe
SUMMARY:Cómo Aman Ellos
DESCRIPTION:A pedido del público\, volvemos por 4 únicas funciones. “Cómo aman ellos»\, bajo la dirección de Bruno Odar\, libro Best Seller de la escritora Rosa María Cifuentes\, llega al Teatro\, para plasmar los perfiles y actitudes de varones que viven el amor según su nivel de madurez y otras influencias. La dramaturgia está a cargo de Bruno Odar y la misma Rosa María Cifuentes. Cinco historias reales para mirarse y quizás\, decidir sanar.
URL:https://puroteatro.pe/obra-teatral/como-aman-ellos-2/2026-05-29/
LOCATION:Teatro Auditorio Mario Vargas Llosa\, Avenida De La Poesía\, San Borja\, San Borja\, Lima\, Peru
CATEGORIES:Teatro
ATTACH;FMTTYPE=image/png:https://puroteatro.pe/wp-content/uploads/2026/02/Diseno-sin-titulo-25.png
END:VEVENT
BEGIN:VEVENT
DTSTART;TZID=America/Lima:20260530T170000
DTEND;TZID=America/Lima:20260530T180000
DTSTAMP:20260423T042343
CREATED:20260209T170110Z
LAST-MODIFIED:20260209T170110Z
UID:10005286-1780160400-1780164000@puroteatro.pe
SUMMARY:Cómo Aman Ellos
DESCRIPTION:A pedido del público\, volvemos por 4 únicas funciones. “Cómo aman ellos»\, bajo la dirección de Bruno Odar\, libro Best Seller de la escritora Rosa María Cifuentes\, llega al Teatro\, para plasmar los perfiles y actitudes de varones que viven el amor según su nivel de madurez y otras influencias. La dramaturgia está a cargo de Bruno Odar y la misma Rosa María Cifuentes. Cinco historias reales para mirarse y quizás\, decidir sanar.
URL:https://puroteatro.pe/obra-teatral/como-aman-ellos-2/2026-05-30/1/
LOCATION:Teatro Auditorio Mario Vargas Llosa\, Avenida De La Poesía\, San Borja\, San Borja\, Lima\, Peru
CATEGORIES:Teatro
ATTACH;FMTTYPE=image/png:https://puroteatro.pe/wp-content/uploads/2026/02/Diseno-sin-titulo-25.png
END:VEVENT
BEGIN:VEVENT
DTSTART;TZID=America/Lima:20260530T200000
DTEND;TZID=America/Lima:20260530T210000
DTSTAMP:20260423T042343
CREATED:20260209T170110Z
LAST-MODIFIED:20260209T170110Z
UID:10005287-1780171200-1780174800@puroteatro.pe
SUMMARY:Cómo Aman Ellos
DESCRIPTION:A pedido del público\, volvemos por 4 únicas funciones. “Cómo aman ellos»\, bajo la dirección de Bruno Odar\, libro Best Seller de la escritora Rosa María Cifuentes\, llega al Teatro\, para plasmar los perfiles y actitudes de varones que viven el amor según su nivel de madurez y otras influencias. La dramaturgia está a cargo de Bruno Odar y la misma Rosa María Cifuentes. Cinco historias reales para mirarse y quizás\, decidir sanar.
URL:https://puroteatro.pe/obra-teatral/como-aman-ellos-2/2026-05-30/2/
LOCATION:Teatro Auditorio Mario Vargas Llosa\, Avenida De La Poesía\, San Borja\, San Borja\, Lima\, Peru
CATEGORIES:Teatro
ATTACH;FMTTYPE=image/png:https://puroteatro.pe/wp-content/uploads/2026/02/Diseno-sin-titulo-25.png
END:VEVENT
BEGIN:VEVENT
DTSTART;TZID=America/Lima:20260531T190000
DTEND;TZID=America/Lima:20260531T200000
DTSTAMP:20260423T042343
CREATED:20260209T170110Z
LAST-MODIFIED:20260209T170110Z
UID:10005288-1780254000-1780257600@puroteatro.pe
SUMMARY:Cómo Aman Ellos
DESCRIPTION:A pedido del público\, volvemos por 4 únicas funciones. “Cómo aman ellos»\, bajo la dirección de Bruno Odar\, libro Best Seller de la escritora Rosa María Cifuentes\, llega al Teatro\, para plasmar los perfiles y actitudes de varones que viven el amor según su nivel de madurez y otras influencias. La dramaturgia está a cargo de Bruno Odar y la misma Rosa María Cifuentes. Cinco historias reales para mirarse y quizás\, decidir sanar.
URL:https://puroteatro.pe/obra-teatral/como-aman-ellos-2/2026-05-31/
LOCATION:Teatro Auditorio Mario Vargas Llosa\, Avenida De La Poesía\, San Borja\, San Borja\, Lima\, Peru
CATEGORIES:Teatro
ATTACH;FMTTYPE=image/png:https://puroteatro.pe/wp-content/uploads/2026/02/Diseno-sin-titulo-25.png
END:VEVENT
END:VCALENDAR