BEGIN:VCALENDAR
VERSION:2.0
PRODID:-//Puro Teatro - ECPv6.15.20//NONSGML v1.0//EN
CALSCALE:GREGORIAN
METHOD:PUBLISH
X-WR-CALNAME:Puro Teatro
X-ORIGINAL-URL:https://puroteatro.pe
X-WR-CALDESC:Eventos para Puro Teatro
REFRESH-INTERVAL;VALUE=DURATION:PT1H
X-Robots-Tag:noindex
X-PUBLISHED-TTL:PT1H
BEGIN:VTIMEZONE
TZID:America/Lima
BEGIN:STANDARD
TZOFFSETFROM:-0500
TZOFFSETTO:-0500
TZNAME:-05
DTSTART:20250101T000000
END:STANDARD
END:VTIMEZONE
BEGIN:VEVENT
DTSTART;TZID=America/Lima:20260425T160000
DTEND;TZID=America/Lima:20260425T170000
DTSTAMP:20260425T115855
CREATED:20251228T125748Z
LAST-MODIFIED:20251228T125748Z
UID:10004802-1777132800-1777136400@puroteatro.pe
SUMMARY:Sinfonía de la fuerza: Un homenaje a John Wiliams
DESCRIPTION:El concierto más esperado regresa… y la Fuerza vuelve a despertar… \n  \n¡Que la Fuerza te acompañe en este concierto intergaláctico que regresa al Gran Teatro Nacional! \n  \nPrepárate para viajar\, a una galaxia muy\, muy lejana a través del universo sonoro de John Williams\, el legendario compositor detrás de una de las bandas sonoras más icónicas de todos los tiempos: Star Wars. \n  \nLa Studio Concerts Orchestra\, con más de 60 músicos y coros en escena\, interpretará en vivo las composiciones más memorables de la saga: desde los temas más heroicos que acompañaron grandes batallas\, hasta las melodías más íntimas que marcaron el destino de la Fuerza. Cada nota te hará revivir los momentos que definieron esta historia eterna entre el lado luminoso y el lado oscuro. \n  \nUna experiencia sinfónica épica\, pensada para fans de todas las edades\, padawans\, jedis y maestros por igual. \n  \nNo pierdas la oportunidad de volver a sentir la Fuerza… como nunca antes.
URL:https://puroteatro.pe/obra-teatral/sinfonia-de-la-fuerza-un-homenaje-a-john-wiliams/2026-04-25/1/
CATEGORIES:Musicales
ATTACH;FMTTYPE=image/png:https://puroteatro.pe/wp-content/uploads/2025/12/Diseno-sin-titulo-7.png
END:VEVENT
BEGIN:VEVENT
DTSTART;TZID=America/Lima:20260425T200000
DTEND;TZID=America/Lima:20260425T210000
DTSTAMP:20260425T115855
CREATED:20251228T125748Z
LAST-MODIFIED:20251228T125748Z
UID:10004803-1777147200-1777150800@puroteatro.pe
SUMMARY:Sinfonía de la fuerza: Un homenaje a John Wiliams
DESCRIPTION:El concierto más esperado regresa… y la Fuerza vuelve a despertar… \n  \n¡Que la Fuerza te acompañe en este concierto intergaláctico que regresa al Gran Teatro Nacional! \n  \nPrepárate para viajar\, a una galaxia muy\, muy lejana a través del universo sonoro de John Williams\, el legendario compositor detrás de una de las bandas sonoras más icónicas de todos los tiempos: Star Wars. \n  \nLa Studio Concerts Orchestra\, con más de 60 músicos y coros en escena\, interpretará en vivo las composiciones más memorables de la saga: desde los temas más heroicos que acompañaron grandes batallas\, hasta las melodías más íntimas que marcaron el destino de la Fuerza. Cada nota te hará revivir los momentos que definieron esta historia eterna entre el lado luminoso y el lado oscuro. \n  \nUna experiencia sinfónica épica\, pensada para fans de todas las edades\, padawans\, jedis y maestros por igual. \n  \nNo pierdas la oportunidad de volver a sentir la Fuerza… como nunca antes.
URL:https://puroteatro.pe/obra-teatral/sinfonia-de-la-fuerza-un-homenaje-a-john-wiliams/2026-04-25/2/
CATEGORIES:Musicales
ATTACH;FMTTYPE=image/png:https://puroteatro.pe/wp-content/uploads/2025/12/Diseno-sin-titulo-7.png
END:VEVENT
BEGIN:VEVENT
DTSTART;TZID=America/Lima:20260426T160000
DTEND;TZID=America/Lima:20260426T170000
DTSTAMP:20260425T115855
CREATED:20251228T125748Z
LAST-MODIFIED:20251228T125748Z
UID:10004804-1777219200-1777222800@puroteatro.pe
SUMMARY:Sinfonía de la fuerza: Un homenaje a John Wiliams
DESCRIPTION:El concierto más esperado regresa… y la Fuerza vuelve a despertar… \n  \n¡Que la Fuerza te acompañe en este concierto intergaláctico que regresa al Gran Teatro Nacional! \n  \nPrepárate para viajar\, a una galaxia muy\, muy lejana a través del universo sonoro de John Williams\, el legendario compositor detrás de una de las bandas sonoras más icónicas de todos los tiempos: Star Wars. \n  \nLa Studio Concerts Orchestra\, con más de 60 músicos y coros en escena\, interpretará en vivo las composiciones más memorables de la saga: desde los temas más heroicos que acompañaron grandes batallas\, hasta las melodías más íntimas que marcaron el destino de la Fuerza. Cada nota te hará revivir los momentos que definieron esta historia eterna entre el lado luminoso y el lado oscuro. \n  \nUna experiencia sinfónica épica\, pensada para fans de todas las edades\, padawans\, jedis y maestros por igual. \n  \nNo pierdas la oportunidad de volver a sentir la Fuerza… como nunca antes.
URL:https://puroteatro.pe/obra-teatral/sinfonia-de-la-fuerza-un-homenaje-a-john-wiliams/2026-04-26/1/
CATEGORIES:Musicales
ATTACH;FMTTYPE=image/png:https://puroteatro.pe/wp-content/uploads/2025/12/Diseno-sin-titulo-7.png
END:VEVENT
BEGIN:VEVENT
DTSTART;TZID=America/Lima:20260426T200000
DTEND;TZID=America/Lima:20260426T210000
DTSTAMP:20260425T115855
CREATED:20251228T125748Z
LAST-MODIFIED:20251228T125748Z
UID:10004805-1777233600-1777237200@puroteatro.pe
SUMMARY:Sinfonía de la fuerza: Un homenaje a John Wiliams
DESCRIPTION:El concierto más esperado regresa… y la Fuerza vuelve a despertar… \n  \n¡Que la Fuerza te acompañe en este concierto intergaláctico que regresa al Gran Teatro Nacional! \n  \nPrepárate para viajar\, a una galaxia muy\, muy lejana a través del universo sonoro de John Williams\, el legendario compositor detrás de una de las bandas sonoras más icónicas de todos los tiempos: Star Wars. \n  \nLa Studio Concerts Orchestra\, con más de 60 músicos y coros en escena\, interpretará en vivo las composiciones más memorables de la saga: desde los temas más heroicos que acompañaron grandes batallas\, hasta las melodías más íntimas que marcaron el destino de la Fuerza. Cada nota te hará revivir los momentos que definieron esta historia eterna entre el lado luminoso y el lado oscuro. \n  \nUna experiencia sinfónica épica\, pensada para fans de todas las edades\, padawans\, jedis y maestros por igual. \n  \nNo pierdas la oportunidad de volver a sentir la Fuerza… como nunca antes.
URL:https://puroteatro.pe/obra-teatral/sinfonia-de-la-fuerza-un-homenaje-a-john-wiliams/2026-04-26/2/
CATEGORIES:Musicales
ATTACH;FMTTYPE=image/png:https://puroteatro.pe/wp-content/uploads/2025/12/Diseno-sin-titulo-7.png
END:VEVENT
END:VCALENDAR