BEGIN:VCALENDAR
VERSION:2.0
PRODID:-//Puro Teatro - ECPv6.15.20//NONSGML v1.0//EN
CALSCALE:GREGORIAN
METHOD:PUBLISH
X-WR-CALNAME:Puro Teatro
X-ORIGINAL-URL:https://puroteatro.pe
X-WR-CALDESC:Eventos para Puro Teatro
REFRESH-INTERVAL;VALUE=DURATION:PT1H
X-Robots-Tag:noindex
X-PUBLISHED-TTL:PT1H
BEGIN:VTIMEZONE
TZID:America/Lima
BEGIN:STANDARD
TZOFFSETFROM:-0500
TZOFFSETTO:-0500
TZNAME:-05
DTSTART:20250101T000000
END:STANDARD
END:VTIMEZONE
BEGIN:VEVENT
DTSTART;TZID=America/Lima:20260423T203000
DTEND;TZID=America/Lima:20260423T213000
DTSTAMP:20260420T125402
CREATED:20251215T172949Z
LAST-MODIFIED:20251215T172949Z
UID:10004431-1776976200-1776979800@puroteatro.pe
SUMMARY:Una semana nada más
DESCRIPTION:Regresa una de las comedias más exitosas en Argentina\, España\, Costa Rica y Perú! \nSofía y Pablo viven juntos desde hace cuatro meses\, pero Pablo ya no la aguanta. No aguanta su orden\, no aguanta sus libros\, no aguanta su timbre de voz\, nada que no pudiese solucionar teniendo una conversación con Sofía y rompiendo la relación\, pero Pablo no quiere cargar con la ruptura\, quiere que sea ella la que se marche. \nSofía está loca por Pablo\, adora su trabajo en una librería y no aguanta a Martín\, el mejor amigo de Pablo. \nMartín es un buenazo\, es ordenado\, es limpio\, es trabajador y quiere a su amigo. Martín jamás entraría en un loco plan de Pablo para echar a Sofía de casa\, jamás lo haría\, jamás…pero Martín\, sin saber exactamente cómo\, terminará siendo cómplice de su amigo\, aunque no quiera. \nSofía\, Pablo y Martín tendrán que convivir una semana\, una semana nada más. Una semana en la que la situación se irá complicando y girando hasta no saber quién engaña a quién. Siete días juntos\, los tres\, aguantando sus neuras y sus mentiras. Siete días que serán la distancia del amor al odio (y viceversa) en una huida hacia delante cómica y cada vez más disparatada.
URL:https://puroteatro.pe/obra-teatral/una-semana-nada-mas/2026-04-23/
LOCATION:Teatro Claretiano\, Av de los Precursores 125-127\, San Miguel\, San Miguel\, Lima\, Peru
CATEGORIES:Teatro
ATTACH;FMTTYPE=image/jpeg:https://puroteatro.pe/wp-content/uploads/2025/12/una-semana-nada-mas.jpg
END:VEVENT
BEGIN:VEVENT
DTSTART;TZID=America/Lima:20260424T203000
DTEND;TZID=America/Lima:20260424T213000
DTSTAMP:20260420T125403
CREATED:20251215T172949Z
LAST-MODIFIED:20251215T172949Z
UID:10004432-1777062600-1777066200@puroteatro.pe
SUMMARY:Una semana nada más
DESCRIPTION:Regresa una de las comedias más exitosas en Argentina\, España\, Costa Rica y Perú! \nSofía y Pablo viven juntos desde hace cuatro meses\, pero Pablo ya no la aguanta. No aguanta su orden\, no aguanta sus libros\, no aguanta su timbre de voz\, nada que no pudiese solucionar teniendo una conversación con Sofía y rompiendo la relación\, pero Pablo no quiere cargar con la ruptura\, quiere que sea ella la que se marche. \nSofía está loca por Pablo\, adora su trabajo en una librería y no aguanta a Martín\, el mejor amigo de Pablo. \nMartín es un buenazo\, es ordenado\, es limpio\, es trabajador y quiere a su amigo. Martín jamás entraría en un loco plan de Pablo para echar a Sofía de casa\, jamás lo haría\, jamás…pero Martín\, sin saber exactamente cómo\, terminará siendo cómplice de su amigo\, aunque no quiera. \nSofía\, Pablo y Martín tendrán que convivir una semana\, una semana nada más. Una semana en la que la situación se irá complicando y girando hasta no saber quién engaña a quién. Siete días juntos\, los tres\, aguantando sus neuras y sus mentiras. Siete días que serán la distancia del amor al odio (y viceversa) en una huida hacia delante cómica y cada vez más disparatada.
URL:https://puroteatro.pe/obra-teatral/una-semana-nada-mas/2026-04-24/
LOCATION:Teatro Claretiano\, Av de los Precursores 125-127\, San Miguel\, San Miguel\, Lima\, Peru
CATEGORIES:Teatro
ATTACH;FMTTYPE=image/jpeg:https://puroteatro.pe/wp-content/uploads/2025/12/una-semana-nada-mas.jpg
END:VEVENT
BEGIN:VEVENT
DTSTART;TZID=America/Lima:20260425T203000
DTEND;TZID=America/Lima:20260425T213000
DTSTAMP:20260420T125403
CREATED:20251215T172949Z
LAST-MODIFIED:20251215T172949Z
UID:10004433-1777149000-1777152600@puroteatro.pe
SUMMARY:Una semana nada más
DESCRIPTION:Regresa una de las comedias más exitosas en Argentina\, España\, Costa Rica y Perú! \nSofía y Pablo viven juntos desde hace cuatro meses\, pero Pablo ya no la aguanta. No aguanta su orden\, no aguanta sus libros\, no aguanta su timbre de voz\, nada que no pudiese solucionar teniendo una conversación con Sofía y rompiendo la relación\, pero Pablo no quiere cargar con la ruptura\, quiere que sea ella la que se marche. \nSofía está loca por Pablo\, adora su trabajo en una librería y no aguanta a Martín\, el mejor amigo de Pablo. \nMartín es un buenazo\, es ordenado\, es limpio\, es trabajador y quiere a su amigo. Martín jamás entraría en un loco plan de Pablo para echar a Sofía de casa\, jamás lo haría\, jamás…pero Martín\, sin saber exactamente cómo\, terminará siendo cómplice de su amigo\, aunque no quiera. \nSofía\, Pablo y Martín tendrán que convivir una semana\, una semana nada más. Una semana en la que la situación se irá complicando y girando hasta no saber quién engaña a quién. Siete días juntos\, los tres\, aguantando sus neuras y sus mentiras. Siete días que serán la distancia del amor al odio (y viceversa) en una huida hacia delante cómica y cada vez más disparatada.
URL:https://puroteatro.pe/obra-teatral/una-semana-nada-mas/2026-04-25/
LOCATION:Teatro Claretiano\, Av de los Precursores 125-127\, San Miguel\, San Miguel\, Lima\, Peru
CATEGORIES:Teatro
ATTACH;FMTTYPE=image/jpeg:https://puroteatro.pe/wp-content/uploads/2025/12/una-semana-nada-mas.jpg
END:VEVENT
BEGIN:VEVENT
DTSTART;TZID=America/Lima:20260426T190000
DTEND;TZID=America/Lima:20260426T200000
DTSTAMP:20260420T125403
CREATED:20251215T172949Z
LAST-MODIFIED:20251215T172949Z
UID:10004434-1777230000-1777233600@puroteatro.pe
SUMMARY:Una semana nada más
DESCRIPTION:Regresa una de las comedias más exitosas en Argentina\, España\, Costa Rica y Perú! \nSofía y Pablo viven juntos desde hace cuatro meses\, pero Pablo ya no la aguanta. No aguanta su orden\, no aguanta sus libros\, no aguanta su timbre de voz\, nada que no pudiese solucionar teniendo una conversación con Sofía y rompiendo la relación\, pero Pablo no quiere cargar con la ruptura\, quiere que sea ella la que se marche. \nSofía está loca por Pablo\, adora su trabajo en una librería y no aguanta a Martín\, el mejor amigo de Pablo. \nMartín es un buenazo\, es ordenado\, es limpio\, es trabajador y quiere a su amigo. Martín jamás entraría en un loco plan de Pablo para echar a Sofía de casa\, jamás lo haría\, jamás…pero Martín\, sin saber exactamente cómo\, terminará siendo cómplice de su amigo\, aunque no quiera. \nSofía\, Pablo y Martín tendrán que convivir una semana\, una semana nada más. Una semana en la que la situación se irá complicando y girando hasta no saber quién engaña a quién. Siete días juntos\, los tres\, aguantando sus neuras y sus mentiras. Siete días que serán la distancia del amor al odio (y viceversa) en una huida hacia delante cómica y cada vez más disparatada.
URL:https://puroteatro.pe/obra-teatral/una-semana-nada-mas/2026-04-26/
LOCATION:Teatro Claretiano\, Av de los Precursores 125-127\, San Miguel\, San Miguel\, Lima\, Peru
CATEGORIES:Teatro
ATTACH;FMTTYPE=image/jpeg:https://puroteatro.pe/wp-content/uploads/2025/12/una-semana-nada-mas.jpg
END:VEVENT
BEGIN:VEVENT
DTSTART;TZID=America/Lima:20260430T203000
DTEND;TZID=America/Lima:20260430T213000
DTSTAMP:20260420T125403
CREATED:20251215T172949Z
LAST-MODIFIED:20251215T172949Z
UID:10004435-1777581000-1777584600@puroteatro.pe
SUMMARY:Una semana nada más
DESCRIPTION:Regresa una de las comedias más exitosas en Argentina\, España\, Costa Rica y Perú! \nSofía y Pablo viven juntos desde hace cuatro meses\, pero Pablo ya no la aguanta. No aguanta su orden\, no aguanta sus libros\, no aguanta su timbre de voz\, nada que no pudiese solucionar teniendo una conversación con Sofía y rompiendo la relación\, pero Pablo no quiere cargar con la ruptura\, quiere que sea ella la que se marche. \nSofía está loca por Pablo\, adora su trabajo en una librería y no aguanta a Martín\, el mejor amigo de Pablo. \nMartín es un buenazo\, es ordenado\, es limpio\, es trabajador y quiere a su amigo. Martín jamás entraría en un loco plan de Pablo para echar a Sofía de casa\, jamás lo haría\, jamás…pero Martín\, sin saber exactamente cómo\, terminará siendo cómplice de su amigo\, aunque no quiera. \nSofía\, Pablo y Martín tendrán que convivir una semana\, una semana nada más. Una semana en la que la situación se irá complicando y girando hasta no saber quién engaña a quién. Siete días juntos\, los tres\, aguantando sus neuras y sus mentiras. Siete días que serán la distancia del amor al odio (y viceversa) en una huida hacia delante cómica y cada vez más disparatada.
URL:https://puroteatro.pe/obra-teatral/una-semana-nada-mas/2026-04-30/
LOCATION:Teatro Claretiano\, Av de los Precursores 125-127\, San Miguel\, San Miguel\, Lima\, Peru
CATEGORIES:Teatro
ATTACH;FMTTYPE=image/jpeg:https://puroteatro.pe/wp-content/uploads/2025/12/una-semana-nada-mas.jpg
END:VEVENT
BEGIN:VEVENT
DTSTART;TZID=America/Lima:20260501T203000
DTEND;TZID=America/Lima:20260501T213000
DTSTAMP:20260420T125403
CREATED:20251215T172949Z
LAST-MODIFIED:20251215T172949Z
UID:10004436-1777667400-1777671000@puroteatro.pe
SUMMARY:Una semana nada más
DESCRIPTION:Regresa una de las comedias más exitosas en Argentina\, España\, Costa Rica y Perú! \nSofía y Pablo viven juntos desde hace cuatro meses\, pero Pablo ya no la aguanta. No aguanta su orden\, no aguanta sus libros\, no aguanta su timbre de voz\, nada que no pudiese solucionar teniendo una conversación con Sofía y rompiendo la relación\, pero Pablo no quiere cargar con la ruptura\, quiere que sea ella la que se marche. \nSofía está loca por Pablo\, adora su trabajo en una librería y no aguanta a Martín\, el mejor amigo de Pablo. \nMartín es un buenazo\, es ordenado\, es limpio\, es trabajador y quiere a su amigo. Martín jamás entraría en un loco plan de Pablo para echar a Sofía de casa\, jamás lo haría\, jamás…pero Martín\, sin saber exactamente cómo\, terminará siendo cómplice de su amigo\, aunque no quiera. \nSofía\, Pablo y Martín tendrán que convivir una semana\, una semana nada más. Una semana en la que la situación se irá complicando y girando hasta no saber quién engaña a quién. Siete días juntos\, los tres\, aguantando sus neuras y sus mentiras. Siete días que serán la distancia del amor al odio (y viceversa) en una huida hacia delante cómica y cada vez más disparatada.
URL:https://puroteatro.pe/obra-teatral/una-semana-nada-mas/2026-05-01/
LOCATION:Teatro Claretiano\, Av de los Precursores 125-127\, San Miguel\, San Miguel\, Lima\, Peru
CATEGORIES:Teatro
ATTACH;FMTTYPE=image/jpeg:https://puroteatro.pe/wp-content/uploads/2025/12/una-semana-nada-mas.jpg
END:VEVENT
BEGIN:VEVENT
DTSTART;TZID=America/Lima:20260502T203000
DTEND;TZID=America/Lima:20260502T213000
DTSTAMP:20260420T125403
CREATED:20251215T172949Z
LAST-MODIFIED:20251215T172949Z
UID:10004437-1777753800-1777757400@puroteatro.pe
SUMMARY:Una semana nada más
DESCRIPTION:Regresa una de las comedias más exitosas en Argentina\, España\, Costa Rica y Perú! \nSofía y Pablo viven juntos desde hace cuatro meses\, pero Pablo ya no la aguanta. No aguanta su orden\, no aguanta sus libros\, no aguanta su timbre de voz\, nada que no pudiese solucionar teniendo una conversación con Sofía y rompiendo la relación\, pero Pablo no quiere cargar con la ruptura\, quiere que sea ella la que se marche. \nSofía está loca por Pablo\, adora su trabajo en una librería y no aguanta a Martín\, el mejor amigo de Pablo. \nMartín es un buenazo\, es ordenado\, es limpio\, es trabajador y quiere a su amigo. Martín jamás entraría en un loco plan de Pablo para echar a Sofía de casa\, jamás lo haría\, jamás…pero Martín\, sin saber exactamente cómo\, terminará siendo cómplice de su amigo\, aunque no quiera. \nSofía\, Pablo y Martín tendrán que convivir una semana\, una semana nada más. Una semana en la que la situación se irá complicando y girando hasta no saber quién engaña a quién. Siete días juntos\, los tres\, aguantando sus neuras y sus mentiras. Siete días que serán la distancia del amor al odio (y viceversa) en una huida hacia delante cómica y cada vez más disparatada.
URL:https://puroteatro.pe/obra-teatral/una-semana-nada-mas/2026-05-02/
LOCATION:Teatro Claretiano\, Av de los Precursores 125-127\, San Miguel\, San Miguel\, Lima\, Peru
CATEGORIES:Teatro
ATTACH;FMTTYPE=image/jpeg:https://puroteatro.pe/wp-content/uploads/2025/12/una-semana-nada-mas.jpg
END:VEVENT
BEGIN:VEVENT
DTSTART;TZID=America/Lima:20260503T190000
DTEND;TZID=America/Lima:20260503T200000
DTSTAMP:20260420T125403
CREATED:20251215T172949Z
LAST-MODIFIED:20251215T172949Z
UID:10004438-1777834800-1777838400@puroteatro.pe
SUMMARY:Una semana nada más
DESCRIPTION:Regresa una de las comedias más exitosas en Argentina\, España\, Costa Rica y Perú! \nSofía y Pablo viven juntos desde hace cuatro meses\, pero Pablo ya no la aguanta. No aguanta su orden\, no aguanta sus libros\, no aguanta su timbre de voz\, nada que no pudiese solucionar teniendo una conversación con Sofía y rompiendo la relación\, pero Pablo no quiere cargar con la ruptura\, quiere que sea ella la que se marche. \nSofía está loca por Pablo\, adora su trabajo en una librería y no aguanta a Martín\, el mejor amigo de Pablo. \nMartín es un buenazo\, es ordenado\, es limpio\, es trabajador y quiere a su amigo. Martín jamás entraría en un loco plan de Pablo para echar a Sofía de casa\, jamás lo haría\, jamás…pero Martín\, sin saber exactamente cómo\, terminará siendo cómplice de su amigo\, aunque no quiera. \nSofía\, Pablo y Martín tendrán que convivir una semana\, una semana nada más. Una semana en la que la situación se irá complicando y girando hasta no saber quién engaña a quién. Siete días juntos\, los tres\, aguantando sus neuras y sus mentiras. Siete días que serán la distancia del amor al odio (y viceversa) en una huida hacia delante cómica y cada vez más disparatada.
URL:https://puroteatro.pe/obra-teatral/una-semana-nada-mas/2026-05-03/
LOCATION:Teatro Claretiano\, Av de los Precursores 125-127\, San Miguel\, San Miguel\, Lima\, Peru
CATEGORIES:Teatro
ATTACH;FMTTYPE=image/jpeg:https://puroteatro.pe/wp-content/uploads/2025/12/una-semana-nada-mas.jpg
END:VEVENT
END:VCALENDAR